BEGIN:VCALENDAR
VERSION:2.0
PRODID:-//Adelaide for Kids – The Ultimate Family Guide | Kids in Adelaide - ECPv6.15.20//NONSGML v1.0//EN
CALSCALE:GREGORIAN
METHOD:PUBLISH
X-ORIGINAL-URL:https://kidsinadelaide.com.au
X-WR-CALDESC:Events for Adelaide for Kids – The Ultimate Family Guide | Kids in Adelaide
REFRESH-INTERVAL;VALUE=DURATION:PT1H
X-Robots-Tag:noindex
X-PUBLISHED-TTL:PT1H
BEGIN:VTIMEZONE
TZID:Australia/Adelaide
BEGIN:STANDARD
TZOFFSETFROM:+1030
TZOFFSETTO:+0930
TZNAME:ACST
DTSTART:20230401T163000
END:STANDARD
BEGIN:DAYLIGHT
TZOFFSETFROM:+0930
TZOFFSETTO:+1030
TZNAME:ACDT
DTSTART:20230930T163000
END:DAYLIGHT
BEGIN:STANDARD
TZOFFSETFROM:+1030
TZOFFSETTO:+0930
TZNAME:ACST
DTSTART:20240406T163000
END:STANDARD
BEGIN:DAYLIGHT
TZOFFSETFROM:+0930
TZOFFSETTO:+1030
TZNAME:ACDT
DTSTART:20241005T163000
END:DAYLIGHT
BEGIN:STANDARD
TZOFFSETFROM:+1030
TZOFFSETTO:+0930
TZNAME:ACST
DTSTART:20250405T163000
END:STANDARD
BEGIN:DAYLIGHT
TZOFFSETFROM:+0930
TZOFFSETTO:+1030
TZNAME:ACDT
DTSTART:20251004T163000
END:DAYLIGHT
BEGIN:STANDARD
TZOFFSETFROM:+1030
TZOFFSETTO:+0930
TZNAME:ACST
DTSTART:20260404T163000
END:STANDARD
BEGIN:DAYLIGHT
TZOFFSETFROM:+0930
TZOFFSETTO:+1030
TZNAME:ACDT
DTSTART:20261003T163000
END:DAYLIGHT
END:VTIMEZONE
BEGIN:VEVENT
DTSTART;TZID=Australia/Adelaide:20251116T113000
DTEND;TZID=Australia/Adelaide:20251116T173000
DTSTAMP:20260424T225856
CREATED:20251111T103245Z
LAST-MODIFIED:20251111T103245Z
UID:10006261-1763292600-1763314200@kidsinadelaide.com.au
SUMMARY:La Festa Italiana at Rezz - Adelaide Italian Festival
DESCRIPTION:Free Community Event!  \nCampbelltown City Council and The REZZ Hotel are partnering together to bring you an unforgettable outdoor experience celebrating all things Italian! \nImmerse yourself in the vibrant flavours of Italy\, right in the heart of Adelaide’s very own Little Italy.  \nEnjoy Italian cuisine from a variety of food stalls\, offering everything from pizza and arancini to delicious Italian desserts. Pair your meal with a selection of refreshing drinks as you soak in the Italian atmosphere.  \nThe event promises fun for the whole family! Kids will enjoy free activities\, while adults can relax and capture the charm of Italy.  \nWhether you’re a food lover\, a culture enthusiast\, or just looking for a fun day out\, this event has something for everyone. Don’t miss your chance to experience a taste of Italy in the City of Campbelltown\, at The REZZ Hotel! \nPlease register your attendance to assist us with planning HERE
URL:https://kidsinadelaide.com.au/event/la-festa-italiana-at-rezz-adelaide-italian-festival/
LOCATION:Rezz Hotel\, Hamilton Terrace 20\, Newton\, Campbelltown City Council\, 5074\, Australia
CATEGORIES:Carnival,Community,Dining,Family
ATTACH;FMTTYPE=image/jpeg:https://kidsinadelaide.com.au/wp-content/uploads/2025/11/rezz.jpg
ORGANIZER;CN="REZZ HOTEL":MAILTO:admin3@rezz.com.au
GEO:-34.8759614;138.6906399
X-APPLE-STRUCTURED-LOCATION;VALUE=URI;X-ADDRESS=Rezz Hotel Hamilton Terrace 20 Newton Campbelltown City Council 5074 Australia;X-APPLE-RADIUS=500;X-TITLE=Hamilton Terrace 20:geo:138.6906399,-34.8759614
END:VEVENT
BEGIN:VEVENT
DTSTART;TZID=Australia/Adelaide:20240601T160000
DTEND;TZID=Australia/Adelaide:20240601T230000
DTSTAMP:20260424T225856
CREATED:20231228T063206Z
LAST-MODIFIED:20240512T054338Z
UID:10005039-1717257600-1717282800@kidsinadelaide.com.au
SUMMARY:Flamefest - cancelled
DESCRIPTION:This event has been cancelled!  \nFlame Fest is back bigger and better in 2024!! \nCombining everything that people love from a modern day festival with their spectacular FireShow and bringing it to the Harts Mill\, Port Adelaide SA on Friday 31 May and Saturday 1 June 2024. \nIt’s time everyone on the South Australia to get fired up with a packed program of red-hot fire installations\, Fire Performers\, Live Music\, Mesmerising Fire Shows\, Kids Activities\, Pop-up Foodies Feast\, Brews\, and more. \nThe Festival will feature many performers across the two nights\, from musicians\, Stunt performers\, roving performers\, magicians to fire-breathers and fire-twirlers. \nWhat’s on: \n– Fire Shows\, Fire Performers\, Fire Sculptures\, Fire Circle\, Firejets\, and much much more!!\n– Plenty of Brews (inc local Beers\, spirits\, Wines\, Ciders etc)\n– Live music including Rogue Traders\, Taxi Ride\, Reece Mastin\, Rockafellas\, Adam Ludewig\, Substance\, Mason Lloyde and more!!\n– Roving Performers & Magic Shows\n– BBQ & Food Truck Festival\n– Plenty of Kids games & activities\n– FMX Stunt Shows\n& MUCH MUCH MORE!!! \nWHERE: Harts Mill – Port Adelaide SA \nWHEN: 31 May – 1 June \nTIME: 4pm – 11pm on both days \nBOOK TICKETS HERE \nMusic Timetable \nFRIDAY \n9:00-10:00pm Rockafellas\n7:45-8:45pm Reece Martin\n6:30-7:30pm Substance\n5:15-6:15pm Mason Lloyde \nSATURDAY \n9:00-10:00pm Rogue Traders DUO\n7:45-8:45pm Taxi Ride\n6:30-7:30pm Adam Ludewig\n5:15-6:15pm TBC \nStunt Show \n\n​Aussie FMX Show – AUSTRALIA’S TOP FREESTYLE ENTERTAINMENT SHOW – Both Nights\nAussie FMX leaves the crowd in awe as Australia’s top riders turn themselves upside down and inside out in an action packed demonstration that showcases the most spectacular stunts in freestyle motocross\nFire Performers\n3 x Fire Shows each night on Stage presented by Dragon Mill School of Fire Art\nFire Circle will allow you to get close to the fire performers\n\nFoodies \n\nGet ready for SA’s best BBQ experts & Foodies on site cooking up a storm\n\nBar \n\nFully stocked Bar!!\nRoving Performers & Magic Shows\nMagicians to fire-breathers and fire-twirlers.
URL:https://kidsinadelaide.com.au/event/flamefest/2024-06-01/
LOCATION:Hart’s Mill\, Port Adelaide\, SA\, Australia
CATEGORIES:Cancelled or Posponed,Carnival,Family,Featured
ATTACH;FMTTYPE=image/jpeg:https://kidsinadelaide.com.au/wp-content/uploads/2023/12/FlameFest-1.jpeg
END:VEVENT
END:VCALENDAR