BEGIN:VCALENDAR
VERSION:2.0
PRODID:-//Adelaide for Kids – The Ultimate Family Guide | Kids in Adelaide - ECPv6.15.20//NONSGML v1.0//EN
CALSCALE:GREGORIAN
METHOD:PUBLISH
X-WR-CALNAME:Adelaide for Kids – The Ultimate Family Guide | Kids in Adelaide
X-ORIGINAL-URL:https://kidsinadelaide.com.au
X-WR-CALDESC:Events for Adelaide for Kids – The Ultimate Family Guide | Kids in Adelaide
REFRESH-INTERVAL;VALUE=DURATION:PT1H
X-Robots-Tag:noindex
X-PUBLISHED-TTL:PT1H
BEGIN:VTIMEZONE
TZID:Australia/Adelaide
BEGIN:STANDARD
TZOFFSETFROM:+1030
TZOFFSETTO:+0930
TZNAME:ACST
DTSTART:20240406T163000
END:STANDARD
BEGIN:DAYLIGHT
TZOFFSETFROM:+0930
TZOFFSETTO:+1030
TZNAME:ACDT
DTSTART:20241005T163000
END:DAYLIGHT
BEGIN:STANDARD
TZOFFSETFROM:+1030
TZOFFSETTO:+0930
TZNAME:ACST
DTSTART:20250405T163000
END:STANDARD
BEGIN:DAYLIGHT
TZOFFSETFROM:+0930
TZOFFSETTO:+1030
TZNAME:ACDT
DTSTART:20251004T163000
END:DAYLIGHT
BEGIN:STANDARD
TZOFFSETFROM:+1030
TZOFFSETTO:+0930
TZNAME:ACST
DTSTART:20260404T163000
END:STANDARD
BEGIN:DAYLIGHT
TZOFFSETFROM:+0930
TZOFFSETTO:+1030
TZNAME:ACDT
DTSTART:20261003T163000
END:DAYLIGHT
BEGIN:STANDARD
TZOFFSETFROM:+1030
TZOFFSETTO:+0930
TZNAME:ACST
DTSTART:20270403T163000
END:STANDARD
BEGIN:DAYLIGHT
TZOFFSETFROM:+0930
TZOFFSETTO:+1030
TZNAME:ACDT
DTSTART:20271002T163000
END:DAYLIGHT
END:VTIMEZONE
BEGIN:VEVENT
DTSTART;TZID=Australia/Adelaide:20251220T100000
DTEND;TZID=Australia/Adelaide:20251220T130000
DTSTAMP:20260423T205753
CREATED:20251216T225129Z
LAST-MODIFIED:20251216T225129Z
UID:10006732-1766224800-1766235600@kidsinadelaide.com.au
SUMMARY:Together Mart Anniversary & Christmas Celebration
DESCRIPTION:Date: December 20 \nThank you for your continued support!\nWe’ve prepared a special day just for you.\nCome with your family and enjoy a fun-filled time together! 😊 \nEvent Program\n1. Face Painting\nTime: 10:00 AM – 1:00 PM\nEligibility: Free for children only\n2. Snack Giveaway Event\nEligibility: All customers\nFirst-come\, first-served until supplies last\n3. Limited Edition Calendar Giveaway\nReceive a Together Mart Exclusive Calendar with purchases over $150\n(Limited quantity · May run out early)\n4. Cheongjeongwon Dumpling Tasting Event\nEnjoy a special chance to taste a variety of dumplings! \nSee you on December 20 at Together Mart!
URL:https://kidsinadelaide.com.au/event/together-mart-anniversary-christmas-celebration/
CATEGORIES:Adelaide Christmas Festival,Christmas,Christmas School Holiday Feature Events
ATTACH;FMTTYPE=image/jpeg:https://kidsinadelaide.com.au/wp-content/uploads/2025/12/크리스마스이벤트-2.jpeg
ORGANIZER;CN="TOGETHER MART":MAILTO:woolimart22@gmail.com
END:VEVENT
BEGIN:VEVENT
DTSTART;TZID=Australia/Adelaide:20251212T170000
DTEND;TZID=Australia/Adelaide:20251212T213000
DTSTAMP:20260423T205753
CREATED:20251112T091926Z
LAST-MODIFIED:20251112T091926Z
UID:10006262-1765558800-1765575000@kidsinadelaide.com.au
SUMMARY:Freeling Christmas Street Party
DESCRIPTION:There will be rides\, a parade\, stalls with lots of goodies and food\, SANTA\, raffle prizes and competitions for colouring in\, best dressed kids and bikes plus so much fun!
URL:https://kidsinadelaide.com.au/event/freeling-christmas-street-party/
LOCATION:hanson street freeling\, Hanson Street\, Freeling\, 5372
CATEGORIES:Adelaide Christmas Festival
ATTACH;FMTTYPE=image/jpeg:https://kidsinadelaide.com.au/wp-content/uploads/2025/11/join-us-for.jpg
GEO:-34.4541217;138.8166536
X-APPLE-STRUCTURED-LOCATION;VALUE=URI;X-ADDRESS=hanson street freeling Hanson Street Freeling 5372;X-APPLE-RADIUS=500;X-TITLE=Hanson Street:geo:138.8166536,-34.4541217
END:VEVENT
BEGIN:VEVENT
DTSTART;TZID=Australia/Adelaide:20251206T100000
DTEND;TZID=Australia/Adelaide:20251206T150000
DTSTAMP:20260423T205753
CREATED:20251122T044436Z
LAST-MODIFIED:20251122T044436Z
UID:10006287-1765015200-1765033200@kidsinadelaide.com.au
SUMMARY:Taste of Melbourne Street at Meander Market
DESCRIPTION:Experience a Christmas artisan market that has it all\, including Father Christmas! \nJoin us at Meander Market for all your festive shopping with unique\, high-quality\, artisan stalls. Enjoy live music\, delicious Melbourne Street food and drinks\, free caricatures and free face painting! \nPlus\, keep an eye out for Father Christmas making a special appearance for you to snap a pic with him from 10:30 am to 1:00 pm. \nfind out more here
URL:https://kidsinadelaide.com.au/event/taste-of-melbourne-street-at-meander-market/
LOCATION:Melbourne Street\, Melbourne Street\, North Adelaide\, SA\, 5001\, Australia
CATEGORIES:Adelaide Christmas Festival,Christmas in Adelaide City,Christmas Markets,Christmas School Holiday Feature Events,Community,Family,Free,Market,Outdoor,Shopping
ATTACH;FMTTYPE=image/jpeg:https://kidsinadelaide.com.au/wp-content/uploads/2025/11/Hero-4-CoA-Meander-Market_Web_May2025_MorganSette-97.jpg
END:VEVENT
BEGIN:VEVENT
DTSTART;TZID=Australia/Adelaide:20251128T090000
DTEND;TZID=Australia/Adelaide:20260104T235900
DTSTAMP:20260423T205753
CREATED:20251124T105209Z
LAST-MODIFIED:20251124T105209Z
UID:10006292-1764320400-1767571140@kidsinadelaide.com.au
SUMMARY:Melbourne Street Christmas Gnome Trail
DESCRIPTION:Mischievous gnomes have snuck into shop and café windows all along Melbourne Street\, North Adelaide! \nCount them for your chance to win a handmade gnome and $100 to spend on Melbourne St. \nFor more details and to enter the competition\, visit the website or scan the QR code on the footpath stickers\, posters or postcards\, and enter before 4 Jan. T&C’s apply. \nThey’ll be hiding from 28 November 2025 to 4 January 2026- perfect for a daylight gnome hunt. \nHave fun and enjoy a roaming gnome-ing Christmas!
URL:https://kidsinadelaide.com.au/event/melbourne-street-christmas-gnome-trail/
LOCATION:Melbourne Street\, Melbourne Street\, North Adelaide\, SA\, 5001\, Australia
CATEGORIES:Adelaide Christmas Festival,Christmas in Adelaide City,Christmas School Holiday Feature Events,Community,December School Holidays,December-School-Holidays-Featured,Family,Free,Outdoor,School Holidays
ATTACH;FMTTYPE=image/jpeg:https://kidsinadelaide.com.au/wp-content/uploads/2025/11/Gnome-image-2.jpg
END:VEVENT
END:VCALENDAR