BEGIN:VCALENDAR
VERSION:2.0
PRODID:-//Adelaide for Kids – The Ultimate Family Guide | Kids in Adelaide - ECPv6.15.20//NONSGML v1.0//EN
CALSCALE:GREGORIAN
METHOD:PUBLISH
X-ORIGINAL-URL:https://kidsinadelaide.com.au
X-WR-CALDESC:Events for Adelaide for Kids – The Ultimate Family Guide | Kids in Adelaide
REFRESH-INTERVAL;VALUE=DURATION:PT1H
X-Robots-Tag:noindex
X-PUBLISHED-TTL:PT1H
BEGIN:VTIMEZONE
TZID:Australia/Adelaide
BEGIN:STANDARD
TZOFFSETFROM:+1030
TZOFFSETTO:+0930
TZNAME:ACST
DTSTART:20240406T163000
END:STANDARD
BEGIN:DAYLIGHT
TZOFFSETFROM:+0930
TZOFFSETTO:+1030
TZNAME:ACDT
DTSTART:20241005T163000
END:DAYLIGHT
BEGIN:STANDARD
TZOFFSETFROM:+1030
TZOFFSETTO:+0930
TZNAME:ACST
DTSTART:20250405T163000
END:STANDARD
BEGIN:DAYLIGHT
TZOFFSETFROM:+0930
TZOFFSETTO:+1030
TZNAME:ACDT
DTSTART:20251004T163000
END:DAYLIGHT
BEGIN:STANDARD
TZOFFSETFROM:+1030
TZOFFSETTO:+0930
TZNAME:ACST
DTSTART:20260404T163000
END:STANDARD
BEGIN:DAYLIGHT
TZOFFSETFROM:+0930
TZOFFSETTO:+1030
TZNAME:ACDT
DTSTART:20261003T163000
END:DAYLIGHT
BEGIN:STANDARD
TZOFFSETFROM:+1030
TZOFFSETTO:+0930
TZNAME:ACST
DTSTART:20270403T163000
END:STANDARD
BEGIN:DAYLIGHT
TZOFFSETFROM:+0930
TZOFFSETTO:+1030
TZNAME:ACDT
DTSTART:20271002T163000
END:DAYLIGHT
END:VTIMEZONE
BEGIN:VEVENT
DTSTART;TZID=Australia/Adelaide:20260129T190000
DTEND;TZID=Australia/Adelaide:20260129T230000
DTSTAMP:20260423T182643
CREATED:20251218T103206Z
LAST-MODIFIED:20251218T103206Z
UID:10007239-1769713200-1769727600@kidsinadelaide.com.au
SUMMARY:Shrek - Moonlight Cinema
DESCRIPTION:Moonlight Cinema is Australia’s favourite outdoor cinema\, set in iconic inner-city green spaces. \nMake the most of warm\, sunny evenings and treat the family to a movie under the stars. Pack a picnic or enjoy a delicious bite from one of the onsite caterers. \nThis season\, take part in The People’s Program and help decide which fan-favourite films will light up the big screen! Don’t forget to vote for your favourite films and see your picks on the big screen! \nAdelaide’s Moonlight Cinema is located at Botanic Park (adjacent to Adelaide Botanic Garden)\, Hackney Road\, Adelaide. Enter via Plane Tree Drive. \nMOVIE: Shrek \nWHEN: Thursday 29 January \nTIME: Gates open at 7.00pm. Screenings start at sundown (approximately 8.45pm) \nCOST:  \n\nGeneral Admission $27.50\nConnoisseur Lounge $46\nSingapore Airlines Gold Grass $47.50\n\nBook tickets here
URL:https://kidsinadelaide.com.au/event/shrek-moonlight-cinema/
LOCATION:Moonlight Cinema\, Rymill\, Park/Murlawirrapurka\, Adelaide\, SA\, 5000\, Australia
CATEGORIES:Moonlight Cinema
ATTACH;FMTTYPE=image/jpeg:https://kidsinadelaide.com.au/wp-content/uploads/2025/12/Shrek.jpeg
END:VEVENT
BEGIN:VEVENT
DTSTART;TZID=Australia/Adelaide:20260116T190000
DTEND;TZID=Australia/Adelaide:20260116T230000
DTSTAMP:20260423T182643
CREATED:20251218T103030Z
LAST-MODIFIED:20251218T103030Z
UID:10007238-1768590000-1768604400@kidsinadelaide.com.au
SUMMARY:The Spongebob Movie: Search for Squarepants - Moonlight Cinema
DESCRIPTION:Moonlight Cinema is Australia’s favourite outdoor cinema\, set in iconic inner-city green spaces. \nMake the most of warm\, sunny evenings and treat the family to a movie under the stars. Pack a picnic or enjoy a delicious bite from one of the onsite caterers. \nThis season\, take part in The People’s Program and help decide which fan-favourite films will light up the big screen! Don’t forget to vote for your favourite films and see your picks on the big screen! \nAdelaide’s Moonlight Cinema is located at Botanic Park (adjacent to Adelaide Botanic Garden)\, Hackney Road\, Adelaide. Enter via Plane Tree Drive. \nMOVIE: The Spongebob Movie: Search for Squarepants \nWHEN: Friday 16 January \nTIME: Gates open at 7.00pm. Screenings start at sundown (approximately 8.45pm) \nCOST:  \n\nGeneral Admission $27.50\nConnoisseur Lounge $46\nSingapore Airlines Gold Grass $47.50\n\nBook tickets here
URL:https://kidsinadelaide.com.au/event/the-spongebob-movie-search-for-squarepants-moonlight-cinema/
LOCATION:Moonlight Cinema\, Rymill\, Park/Murlawirrapurka\, Adelaide\, SA\, 5000\, Australia
CATEGORIES:Moonlight Cinema
ATTACH;FMTTYPE=image/jpeg:https://kidsinadelaide.com.au/wp-content/uploads/2025/12/The-spongebob-movie.jpg
END:VEVENT
BEGIN:VEVENT
DTSTART;TZID=Australia/Adelaide:20260113T190000
DTEND;TZID=Australia/Adelaide:20260113T230000
DTSTAMP:20260423T182643
CREATED:20251218T102727Z
LAST-MODIFIED:20251218T102727Z
UID:10007237-1768330800-1768345200@kidsinadelaide.com.au
SUMMARY:The Parent Trap - Moonlight Cinema
DESCRIPTION:Moonlight Cinema is Australia’s favourite outdoor cinema\, set in iconic inner-city green spaces. \nMake the most of warm\, sunny evenings and treat the family to a movie under the stars. Pack a picnic or enjoy a delicious bite from one of the onsite caterers. \nThis season\, take part in The People’s Program and help decide which fan-favourite films will light up the big screen! Don’t forget to vote for your favourite films and see your picks on the big screen! \nAdelaide’s Moonlight Cinema is located at Botanic Park (adjacent to Adelaide Botanic Garden)\, Hackney Road\, Adelaide. Enter via Plane Tree Drive. \nMOVIE: The Parent Trap \nWHEN: Tuesday 13 January \nTIME: Gates open at 7.00pm. Screenings start at sundown (approximately 8.45pm) \nCOST:  \n\nGeneral Admission $27.50\nConnoisseur Lounge $46\nSingapore Airlines Gold Grass $47.50\n\nBook tickets here
URL:https://kidsinadelaide.com.au/event/the-parent-trap-moonlight-cinema/
LOCATION:Moonlight Cinema\, Rymill\, Park/Murlawirrapurka\, Adelaide\, SA\, 5000\, Australia
CATEGORIES:Moonlight Cinema
ATTACH;FMTTYPE=image/webp:https://kidsinadelaide.com.au/wp-content/uploads/2025/12/the-parent-trap.webp
END:VEVENT
BEGIN:VEVENT
DTSTART;TZID=Australia/Adelaide:20260103T190000
DTEND;TZID=Australia/Adelaide:20260103T230000
DTSTAMP:20260423T182643
CREATED:20251229T031720Z
LAST-MODIFIED:20251229T031720Z
UID:10008292-1767466800-1767481200@kidsinadelaide.com.au
SUMMARY:Six the Musical - Moonlight Cinema
DESCRIPTION:Moonlight Cinema is Australia’s favourite outdoor cinema\, set in iconic inner-city green spaces. \nMake the most of warm\, sunny evenings and treat the family to a movie under the stars. Pack a picnic or enjoy a delicious bite from one of the onsite caterers. \nThis season\, take part in The People’s Program and help decide which fan-favourite films will light up the big screen! Don’t forget to vote for your favourite films and see your picks on the big screen! \nAdelaide’s Moonlight Cinema is located at Botanic Park (adjacent to Adelaide Botanic Garden)\, Hackney Road\, Adelaide. Enter via Plane Tree Drive. \nMOVIE: Six the Musical \nWHEN: Saturday 3 January \nTIME: Gates open at 7.00pm. Screenings start at sundown (approximately 8.45pm) \nCOST: \n\nGeneral Admission $27.50\nConnoisseur Lounge $46\nSingapore Airlines Gold Grass $47.50\n\nBook tickets here
URL:https://kidsinadelaide.com.au/event/six-the-musical-moonlight-cinema/
LOCATION:Moonlight Cinema\, Rymill\, Park/Murlawirrapurka\, Adelaide\, SA\, 5000\, Australia
CATEGORIES:Moonlight Cinema
ATTACH;FMTTYPE=image/jpeg:https://kidsinadelaide.com.au/wp-content/uploads/2025/12/Six-the-Muscial-Moonlight-Cinema-Adelaide.jpg
END:VEVENT
BEGIN:VEVENT
DTSTART;TZID=Australia/Adelaide:20260102T190000
DTEND;TZID=Australia/Adelaide:20260102T230000
DTSTAMP:20260423T182643
CREATED:20251218T102008Z
LAST-MODIFIED:20251218T102008Z
UID:10007233-1767380400-1767394800@kidsinadelaide.com.au
SUMMARY:Zootopia 2 - Moonlight Cinema
DESCRIPTION:Moonlight Cinema is Australia’s favourite outdoor cinema\, set in iconic inner-city green spaces. \nMake the most of warm\, sunny evenings and treat the family to a movie under the stars. Pack a picnic or enjoy a delicious bite from one of the onsite caterers. \nThis season\, take part in The People’s Program and help decide which fan-favourite films will light up the big screen! Don’t forget to vote for your favourite films and see your picks on the big screen! \nAdelaide’s Moonlight Cinema is located at Botanic Park (adjacent to Adelaide Botanic Garden)\, Hackney Road\, Adelaide. Enter via Plane Tree Drive. \nMOVIE: Zootopia 2 \nWHEN: Friday 26 December + 2 January \nTIME: Gates open at 7.00pm. Screenings start at sundown (approximately 8.45pm) \nCOST:  \n\nGeneral Admission $27.50\nConnoisseur Lounge $46\nSingapore Airlines Gold Grass $47.50\n\nBook tickets here
URL:https://kidsinadelaide.com.au/event/zootopia-2-moonlight-cinema/2026-01-02/
LOCATION:Moonlight Cinema\, Rymill\, Park/Murlawirrapurka\, Adelaide\, SA\, 5000\, Australia
CATEGORIES:Moonlight Cinema
ATTACH;FMTTYPE=image/jpeg:https://kidsinadelaide.com.au/wp-content/uploads/2025/12/Zootopia-2.jpg
END:VEVENT
BEGIN:VEVENT
DTSTART;TZID=Australia/Adelaide:20251223T190000
DTEND;TZID=Australia/Adelaide:20251223T230000
DTSTAMP:20260423T182643
CREATED:20251218T100854Z
LAST-MODIFIED:20251218T103529Z
UID:10007228-1766516400-1766530800@kidsinadelaide.com.au
SUMMARY:Love Actually - Moonlight Cinema
DESCRIPTION:Moonlight Cinema is Australia’s favourite outdoor cinema\, set in iconic inner-city green spaces. \nMake the most of warm\, sunny evenings and treat the family to a movie under the stars. Pack a picnic or enjoy a delicious bite from one of the onsite caterers. \nThis season\, take part in The People’s Program and help decide which fan-favourite films will light up the big screen! Don’t forget to vote for your favourite films and see your picks on the big screen! \nAdelaide’s Moonlight Cinema is located at Botanic Park (adjacent to Adelaide Botanic Garden)\, Hackney Road\, Adelaide. Enter via Plane Tree Drive. \nMOVIE: Love Actually \nWHEN: Friday 19 + 23 December \nTIME: Gates open at 7.00pm. Screenings start at sundown (approximately 8.45pm) \nCOST:  \n\nGeneral Admission $27.50\nConnoisseur Lounge $46\nSingapore Airlines Gold Grass $47.50\n\nBook tickets here
URL:https://kidsinadelaide.com.au/event/love-actually-moonlight-cinema/2025-12-23/
LOCATION:Moonlight Cinema\, Rymill\, Park/Murlawirrapurka\, Adelaide\, SA\, 5000\, Australia
CATEGORIES:Moonlight Cinema
ATTACH;FMTTYPE=image/jpeg:https://kidsinadelaide.com.au/wp-content/uploads/2025/12/Love-Actually-1.jpeg
END:VEVENT
BEGIN:VEVENT
DTSTART;TZID=Australia/Adelaide:20251222T190000
DTEND;TZID=Australia/Adelaide:20251222T230000
DTSTAMP:20260423T182643
CREATED:20251218T101714Z
LAST-MODIFIED:20251218T101714Z
UID:10007231-1766430000-1766444400@kidsinadelaide.com.au
SUMMARY:Elf - Moonlight Cinema
DESCRIPTION:Moonlight Cinema is Australia’s favourite outdoor cinema\, set in iconic inner-city green spaces. \nMake the most of warm\, sunny evenings and treat the family to a movie under the stars. Pack a picnic or enjoy a delicious bite from one of the onsite caterers. \nThis season\, take part in The People’s Program and help decide which fan-favourite films will light up the big screen! Don’t forget to vote for your favourite films and see your picks on the big screen! \nAdelaide’s Moonlight Cinema is located at Botanic Park (adjacent to Adelaide Botanic Garden)\, Hackney Road\, Adelaide. Enter via Plane Tree Drive. \nMOVIE: Elf \nWHEN: Monday 22 December \nTIME: Gates open at 7.00pm. Screenings start at sundown (approximately 8.45pm) \nCOST:  \n\nGeneral Admission $27.50\nConnoisseur Lounge $46\nSingapore Airlines Gold Grass $47.50\n\nBook tickets here
URL:https://kidsinadelaide.com.au/event/elf-moonlight-cinema/
LOCATION:Moonlight Cinema\, Rymill\, Park/Murlawirrapurka\, Adelaide\, SA\, 5000\, Australia
CATEGORIES:Moonlight Cinema
ATTACH;FMTTYPE=image/webp:https://kidsinadelaide.com.au/wp-content/uploads/2025/12/Elf.webp
END:VEVENT
BEGIN:VEVENT
DTSTART;TZID=Australia/Adelaide:20251221T190000
DTEND;TZID=Australia/Adelaide:20251221T230000
DTSTAMP:20260423T182643
CREATED:20251218T101441Z
LAST-MODIFIED:20251218T103459Z
UID:10007230-1766343600-1766358000@kidsinadelaide.com.au
SUMMARY:The Grinch - Moonlight Cinema
DESCRIPTION:Moonlight Cinema is Australia’s favourite outdoor cinema\, set in iconic inner-city green spaces. \nMake the most of warm\, sunny evenings and treat the family to a movie under the stars. Pack a picnic or enjoy a delicious bite from one of the onsite caterers. \nThis season\, take part in The People’s Program and help decide which fan-favourite films will light up the big screen! Don’t forget to vote for your favourite films and see your picks on the big screen! \nAdelaide’s Moonlight Cinema is located at Botanic Park (adjacent to Adelaide Botanic Garden)\, Hackney Road\, Adelaide. Enter via Plane Tree Drive. \nMOVIE: The Grinch \nWHEN: Sunday 21 December \nTIME: Gates open at 7.00pm. Screenings start at sundown (approximately 8.45pm) \nCOST:  \n\nGeneral Admission $27.50\nConnoisseur Lounge $46\nSingapore Airlines Gold Grass $47.50\n\nBook tickets here
URL:https://kidsinadelaide.com.au/event/the-grinch-moonlight-cinema/
LOCATION:Moonlight Cinema\, Rymill\, Park/Murlawirrapurka\, Adelaide\, SA\, 5000\, Australia
CATEGORIES:Moonlight Cinema
ATTACH;FMTTYPE=image/jpeg:https://kidsinadelaide.com.au/wp-content/uploads/2025/12/The-Grinch.jpg
END:VEVENT
BEGIN:VEVENT
DTSTART;TZID=Australia/Adelaide:20251220T190000
DTEND;TZID=Australia/Adelaide:20251220T230000
DTSTAMP:20260423T182643
CREATED:20251218T101152Z
LAST-MODIFIED:20251218T101152Z
UID:10007229-1766257200-1766271600@kidsinadelaide.com.au
SUMMARY:Home Alone 2 - Lost in New York - Moonlight Cinema
DESCRIPTION:Moonlight Cinema is Australia’s favourite outdoor cinema\, set in iconic inner-city green spaces. \nMake the most of warm\, sunny evenings and treat the family to a movie under the stars. Pack a picnic or enjoy a delicious bite from one of the onsite caterers. \nThis season\, take part in The People’s Program and help decide which fan-favourite films will light up the big screen! Don’t forget to vote for your favourite films and see your picks on the big screen! \nAdelaide’s Moonlight Cinema is located at Botanic Park (adjacent to Adelaide Botanic Garden)\, Hackney Road\, Adelaide. Enter via Plane Tree Drive. \nMOVIE: Home Along 2 – Lost in New York \nWHEN: Saturday 20 December \nTIME: Gates open at 7.00pm. Screenings start at sundown (approximately 8.45pm) \nCOST:  \n\nGeneral Admission $27.50\nConnoisseur Lounge $46\nSingapore Airlines Gold Grass $47.50\n\nBook tickets here
URL:https://kidsinadelaide.com.au/event/home-alone-2-lost-in-new-york-moonlight-cinema/
LOCATION:Moonlight Cinema\, Rymill\, Park/Murlawirrapurka\, Adelaide\, SA\, 5000\, Australia
CATEGORIES:Moonlight Cinema
ATTACH;FMTTYPE=image/jpeg:https://kidsinadelaide.com.au/wp-content/uploads/2025/12/Home-Alone-2.jpg
END:VEVENT
END:VCALENDAR