BEGIN:VCALENDAR
VERSION:2.0
PRODID:-//Adelaide for Kids – The Ultimate Family Guide | Kids in Adelaide - ECPv6.15.20//NONSGML v1.0//EN
CALSCALE:GREGORIAN
METHOD:PUBLISH
X-WR-CALNAME:Adelaide for Kids – The Ultimate Family Guide | Kids in Adelaide
X-ORIGINAL-URL:https://kidsinadelaide.com.au
X-WR-CALDESC:Events for Adelaide for Kids – The Ultimate Family Guide | Kids in Adelaide
REFRESH-INTERVAL;VALUE=DURATION:PT1H
X-Robots-Tag:noindex
X-PUBLISHED-TTL:PT1H
BEGIN:VTIMEZONE
TZID:Australia/Adelaide
BEGIN:STANDARD
TZOFFSETFROM:+1030
TZOFFSETTO:+0930
TZNAME:ACST
DTSTART:20230401T163000
END:STANDARD
BEGIN:DAYLIGHT
TZOFFSETFROM:+0930
TZOFFSETTO:+1030
TZNAME:ACDT
DTSTART:20230930T163000
END:DAYLIGHT
BEGIN:STANDARD
TZOFFSETFROM:+1030
TZOFFSETTO:+0930
TZNAME:ACST
DTSTART:20240406T163000
END:STANDARD
BEGIN:DAYLIGHT
TZOFFSETFROM:+0930
TZOFFSETTO:+1030
TZNAME:ACDT
DTSTART:20241005T163000
END:DAYLIGHT
BEGIN:STANDARD
TZOFFSETFROM:+1030
TZOFFSETTO:+0930
TZNAME:ACST
DTSTART:20250405T163000
END:STANDARD
BEGIN:DAYLIGHT
TZOFFSETFROM:+0930
TZOFFSETTO:+1030
TZNAME:ACDT
DTSTART:20251004T163000
END:DAYLIGHT
BEGIN:STANDARD
TZOFFSETFROM:+1030
TZOFFSETTO:+0930
TZNAME:ACST
DTSTART:20260404T163000
END:STANDARD
BEGIN:DAYLIGHT
TZOFFSETFROM:+0930
TZOFFSETTO:+1030
TZNAME:ACDT
DTSTART:20261003T163000
END:DAYLIGHT
BEGIN:STANDARD
TZOFFSETFROM:+1030
TZOFFSETTO:+0930
TZNAME:ACST
DTSTART:20270403T163000
END:STANDARD
BEGIN:DAYLIGHT
TZOFFSETFROM:+0930
TZOFFSETTO:+1030
TZNAME:ACDT
DTSTART:20271002T163000
END:DAYLIGHT
END:VTIMEZONE
BEGIN:VTIMEZONE
TZID:UTC
BEGIN:STANDARD
TZOFFSETFROM:+0000
TZOFFSETTO:+0000
TZNAME:UTC
DTSTART:20230101T000000
END:STANDARD
END:VTIMEZONE
BEGIN:VEVENT
DTSTART;TZID=Australia/Adelaide:20260104T110000
DTEND;TZID=Australia/Adelaide:20260104T150000
DTSTAMP:20260422T190628
CREATED:20200603T054217Z
LAST-MODIFIED:20251212T014407Z
UID:10003749-1767524400-1767538800@kidsinadelaide.com.au
SUMMARY:Start at the Gallery
DESCRIPTION:Start at the Gallery is FREE family fun day which includes an exciting introduction to art activities\, tours\, live  performances and entertainment. \nHeld on the first Sunday of every month at 11 am – 3 pm for children aged 3-12 and their families. \nEach monthly event is themed around current exhibitions or the general collection. \nEvents are free and no bookings are necessary. \nParent/carer supervision is required. \nAll Start activities are approved by the Children’s University\, so whether you are visiting us or doing the activities at home\, remember to update your passport at the Information Desk. \nFor more info click here \n\n		\n		\n			\n				\n			\n			\n				\n			\n			\n				\n			\n		\n\n  \n  \n 
URL:https://kidsinadelaide.com.au/event/start-at-the-art-gallery/
LOCATION:Art Gallery of South Australia\, North Terrace\, Adelaide\, SA\, 5000\, Australia
CATEGORIES:Art/Theatre/Dance/Film,Children,Family,Free,Indoor,NAIDOC Week
ATTACH;FMTTYPE=image/jpeg:https://kidsinadelaide.com.au/wp-content/uploads/2020/06/Start-at-the-Art.jpg
END:VEVENT
BEGIN:VEVENT
DTSTART;TZID=Australia/Adelaide:20250711T103000
DTEND;TZID=Australia/Adelaide:20250711T160000
DTSTAMP:20260422T190628
CREATED:20230515T002539Z
LAST-MODIFIED:20250709T060627Z
UID:10003893-1752229800-1752249600@kidsinadelaide.com.au
SUMMARY:NAIDOC SA - March and Family Fun Day
DESCRIPTION:The NAIDOC SA March and Family Festival is the premier community event on the South Australian NAIDOC calendar. \nWHEN: Friday\, 11 July 2024 \nTIME: \n\nNAIDOC March: 10:30am (gathering) for an 11:00am start\, marching from Tarndanyangga (Victoria Square) down King William Street to Parliament House.\nNAIDOC Family Festival: 12:00pm to 4:00pm\, at Adelaide Festival Plaza & Elder Park.\n\nACTIVITIES AND AMUSEMENTS \n\nBalloon Twisting\nFace Painters\nAnimals Anonymous\nKicking tunnels with the Adelaide Crows and Port Adelaide Football Clubs\nShow ride – The Cyclone and Bungee Trampoline\n\nThese are both FREE events! \nThe NAIDOC March is a free event celebrating Blak\, Loud\, and Proud voices. After the march\, the family festival will offer a range of activities including live music\, entertainment\, food trucks\, BBQs\, amusement rides\, and activities for children. The festival is alcohol-free. \n  \n  \n 
URL:https://kidsinadelaide.com.au/event/naidoc-sa-march-and-family-fun-day/
LOCATION:Tarntanyangga / Victoria Square\, Tarntanyangga / Victoria Square\, Adelaide\, south australia\, Australia
CATEGORIES:Free,NAIDOC Week
ATTACH;FMTTYPE=image/jpeg:https://kidsinadelaide.com.au/wp-content/uploads/2023/05/NAIDOC-WEEK.jpg
END:VEVENT
BEGIN:VEVENT
DTSTART;TZID=Australia/Adelaide:20240718T110000
DTEND;TZID=Australia/Adelaide:20240718T130000
DTSTAMP:20260422T190628
CREATED:20240621T090915Z
LAST-MODIFIED:20240621T090915Z
UID:10004433-1721300400-1721307600@kidsinadelaide.com.au
SUMMARY:NAIDOC Community Event
DESCRIPTION:Junction invites you to join them for a FREE celebration of First Nations’ art and culture. \nHeld across the country from 7-14 July 2024\, NAIDOC Week celebrates and recognises the history\, culture and achievements of Aboriginal and Torres Strait Islander peoples. \nThis year’s theme chosen by the National NAIDOC Committee\, is Keep the Fire Burning! Blak\, Loud & Proud. The theme honours the enduring strength and vitality of First Nations culture – with fire a symbol of connection to Country\, to each other\, and to the rich tapestry of traditions that define Aboriginal and Torres Strait Islander peoples. \nThis year’s event will feature: \n\nWelcome to Country + Smoking Ceremony\nDance performance\nLive music\nFree morning tea and sausage sizzle\nFree Hot and cold drinks\nFree exhibitor stalls from our partners\nFree art workshop\nFirst Nations’ stalls featuring art and other goods to purchase\n\nWHERE: Glandore Community Centre \nWHEN: Thursday 18 July \nTIME: 11:00 am – 1:00 pm \nCOST: Free \nRegister here
URL:https://kidsinadelaide.com.au/event/naidoc-community-event/
LOCATION:Glandore Community Centre\, Naldera st\, Glandore\, 5037
CATEGORIES:Free,NAIDOC Week
ATTACH;FMTTYPE=image/jpeg:https://kidsinadelaide.com.au/wp-content/uploads/2024/06/NAIDOC-community-event.jpeg
END:VEVENT
BEGIN:VEVENT
DTSTART;TZID=Australia/Adelaide:20240710T153000
DTEND;TZID=Australia/Adelaide:20240710T170000
DTSTAMP:20260422T190628
CREATED:20240627T070451Z
LAST-MODIFIED:20240627T070451Z
UID:10005166-1720625400-1720630800@kidsinadelaide.com.au
SUMMARY:NAIDOC Art & Storytelling Workshop
DESCRIPTION:Join NAIDOC Week 2024 for an interactive art and storytelling workshop lead by Kyle Sampson-Booth. \nPaint our own story\, exploring identity and self-expression\, on A4 canvas. Together\, the individual stories will combine to create a large mural to be displayed in our Centre foyer. \nThis is a free event for young people and their friends\, family\, and community members. \nKyle is proud Peramangk / Ngarrindjeri man\, born on Kaurna Country in Adelaide\, Kyle now lives on Peramangk Country in the Adelaide hills\, and maintains a strong connection to the Ngarrindjeri / Peramangk people through his family. \nKyle shares a connection through bloodline also to Arrernte\, Warumungu and Yuggara peoples through the central and East coast of Australia. \nAlways proudly connected to culture\, family and Country\, as a young boy he learnt from a variety of cultural leaders\, teachers\, Elders and traditional knowledge holders in different areas of this beautiful country. \nFrom a young age\, Kyle has shared his knowledge through art\, music and dance. He has performed at various festivals and events alongside his family dance group\, Imbala. \nAboriginal People have a deep and spiritual connection with land and water and have passed down this knowledge through songs\, dances\, stories and art for thousands of years. \nWHERE: Headspace\, Mount Barker \nWHEN: Wednesday 10 July \nTIME: 3:30 pm – 5:00 pm \nCOST: Free
URL:https://kidsinadelaide.com.au/event/naidoc-art-storytelling-workshop/
LOCATION:Headspace Mount Barker\, Stephen Street\, Mount Barker\, SA\, 5251\, Australia
CATEGORIES:Free,NAIDOC Week
ATTACH;FMTTYPE=image/jpeg:https://kidsinadelaide.com.au/wp-content/uploads/2024/06/kyle-booth-promo.jpg
GEO:-35.0680698;138.8595113
X-APPLE-STRUCTURED-LOCATION;VALUE=URI;X-ADDRESS=Headspace Mount Barker Stephen Street Mount Barker SA 5251 Australia;X-APPLE-RADIUS=500;X-TITLE=Stephen Street:geo:138.8595113,-35.0680698
END:VEVENT
BEGIN:VEVENT
DTSTART;TZID=UTC:20240709T103000
DTEND;TZID=UTC:20240709T133000
DTSTAMP:20260422T190628
CREATED:20220627T120119Z
LAST-MODIFIED:20240709T025223Z
UID:10004332-1720521000-1720531800@kidsinadelaide.com.au
SUMMARY:NAIDOC in Rundle Mall
DESCRIPTION:Celebrate NAIDOC Week with community and the City of Adelaide in Rundle Mall\, Kaurna Country. \n🐨 Meet Australian animals with Animals Anonymous\n🍲 Experience and enjoy native food with Australian Wattlebush Catering\n🎵 Enjoy live music by Rob Edwards\n🐍 Puzzle the Aboriginal language snake\n🌈 Enjoy free face painting\n📗 Learn with Life Without Barriers\n👓 Read the Cultural Collection with the City Library \nJoin in under the Gawler Place canopy from 10:00am for an official Kaurna Welcome to Country Ceremony and Smoking Ceremony followed by the unveiling of this year’s artwork by two incredible Aboriginal artists\, Mali Isabel and Drew Kilner. \nMore entertainment and activities will follow from 10:30am to 1:00pm. \nWe hope that you can join in for this free NAIDOC Week event celebrating the 2024 theme Keep the fire burning! Blak\, loud and proud.
URL:https://kidsinadelaide.com.au/event/naidoc-in-the-mall-2/
LOCATION:Gawler Place\, Rundle Mall\, Adelaide\, SA\, 5000\, Australia
CATEGORIES:Community,Family,Free,NAIDOC Week
ATTACH;FMTTYPE=image/jpeg:https://kidsinadelaide.com.au/wp-content/uploads/2022/06/naidoc-in-the-mall-2024.jpg
END:VEVENT
BEGIN:VEVENT
DTSTART;TZID=Australia/Adelaide:20240621T080000
DTEND;TZID=Australia/Adelaide:20240621T170000
DTSTAMP:20260422T190628
CREATED:20240621T091411Z
LAST-MODIFIED:20240621T091411Z
UID:10005161-1718956800-1718989200@kidsinadelaide.com.au
SUMMARY:NAIDOC in the North
DESCRIPTION:The John McVeity Centre is proud to bring you NAIDOC in the North. \nThis is just the beginning of what will become a free yearly community event celebrating National NAIDOC week in Northern Adelaide. Together\, they aim to celebrate and recognise the history\, culture and achievements of Aboriginal and Torres Strait Islander people and share the oldest\, continuous living culture to build a unified and stronger community. \nNAIDOC in the North is about connecting and celebrating culture\, sharing\, education and providing opportunities to our community in one accessible and safe place. A place to form genuine partnerships and cross-cultural connections with community and Aboriginal led Organisations and share local talent\, amplifying local Aboriginal voices\, people and stories. \nThe event will include a welcome to country\, cultural performances and activities\, lunch provided and many more exciting things! \nThis is a free\, ticketed event. \nWHERE: John McVeity Centre \nWHEN: Wednesday 10 July \nTIME: 10:00 am – 2:00 pm \nRegister your attendance here
URL:https://kidsinadelaide.com.au/event/naidoc-in-the-north/
LOCATION:John McVeity Centre\, Peachey Road\, Smithfield Plains\, SA\, 5114\, Australia
CATEGORIES:Free,NAIDOC Week
ATTACH;FMTTYPE=image/jpeg:https://kidsinadelaide.com.au/wp-content/uploads/2024/06/NAIDOC-in-the-North.jpeg
GEO:-34.6808078;138.6745756
X-APPLE-STRUCTURED-LOCATION;VALUE=URI;X-ADDRESS=John McVeity Centre Peachey Road Smithfield Plains SA 5114 Australia;X-APPLE-RADIUS=500;X-TITLE=Peachey Road:geo:138.6745756,-34.6808078
END:VEVENT
END:VCALENDAR