BEGIN:VCALENDAR
VERSION:2.0
PRODID:-//Adelaide for Kids – The Ultimate Family Guide | Kids in Adelaide - ECPv6.15.20//NONSGML v1.0//EN
CALSCALE:GREGORIAN
METHOD:PUBLISH
X-WR-CALNAME:Adelaide for Kids – The Ultimate Family Guide | Kids in Adelaide
X-ORIGINAL-URL:https://kidsinadelaide.com.au
X-WR-CALDESC:Events for Adelaide for Kids – The Ultimate Family Guide | Kids in Adelaide
REFRESH-INTERVAL;VALUE=DURATION:PT1H
X-Robots-Tag:noindex
X-PUBLISHED-TTL:PT1H
BEGIN:VTIMEZONE
TZID:Australia/Adelaide
BEGIN:STANDARD
TZOFFSETFROM:+1030
TZOFFSETTO:+0930
TZNAME:ACST
DTSTART:20240406T163000
END:STANDARD
BEGIN:DAYLIGHT
TZOFFSETFROM:+0930
TZOFFSETTO:+1030
TZNAME:ACDT
DTSTART:20241005T163000
END:DAYLIGHT
BEGIN:STANDARD
TZOFFSETFROM:+1030
TZOFFSETTO:+0930
TZNAME:ACST
DTSTART:20250405T163000
END:STANDARD
BEGIN:DAYLIGHT
TZOFFSETFROM:+0930
TZOFFSETTO:+1030
TZNAME:ACDT
DTSTART:20251004T163000
END:DAYLIGHT
BEGIN:STANDARD
TZOFFSETFROM:+1030
TZOFFSETTO:+0930
TZNAME:ACST
DTSTART:20260404T163000
END:STANDARD
BEGIN:DAYLIGHT
TZOFFSETFROM:+0930
TZOFFSETTO:+1030
TZNAME:ACDT
DTSTART:20261003T163000
END:DAYLIGHT
BEGIN:STANDARD
TZOFFSETFROM:+1030
TZOFFSETTO:+0930
TZNAME:ACST
DTSTART:20270403T163000
END:STANDARD
BEGIN:DAYLIGHT
TZOFFSETFROM:+0930
TZOFFSETTO:+1030
TZNAME:ACDT
DTSTART:20271002T163000
END:DAYLIGHT
END:VTIMEZONE
BEGIN:VEVENT
DTSTART;TZID=Australia/Adelaide:20260213T100000
DTEND;TZID=Australia/Adelaide:20260213T123000
DTSTAMP:20260423T225939
CREATED:20260128T233145Z
LAST-MODIFIED:20260128T233145Z
UID:10008508-1770976800-1770985800@kidsinadelaide.com.au
SUMMARY:Playgroup on the Green STIRLING
DESCRIPTION:Join Playgroup SA for a huge outdoor pop-up playgroup at Steamroller Park\, Stirling! 🌳✨\nThere’s so much to do:\n🎨 Sensory play and messy craft activities\n📚 Story time and sing-alongs\n👶 Baby Bounce and movement fun\n🫧 Giant bubbles and face painting\n…and loads more hands-on play for little ones!\nDon’t miss this fun-filled morning – get your tickets now: https://playgroupsa.com.au/whatson-events.html
URL:https://kidsinadelaide.com.au/event/playgroup-on-the-green-stirling/
LOCATION:Steamroller Park\, 2 Mount Barker Road\, Stirling\, Australia
CATEGORIES:Community,Free,Mum,Outdoor,Playgroup
ATTACH;FMTTYPE=image/jpeg:https://kidsinadelaide.com.au/wp-content/uploads/2026/01/Playgroup-on-the-green-Stirling-2.jpg
GEO:-35.0041529;138.7159313
X-APPLE-STRUCTURED-LOCATION;VALUE=URI;X-ADDRESS=Steamroller Park 2 Mount Barker Road Stirling Australia;X-APPLE-RADIUS=500;X-TITLE=2 Mount Barker Road:geo:138.7159313,-35.0041529
END:VEVENT
BEGIN:VEVENT
DTSTART;TZID=Australia/Adelaide:20250501T100000
DTEND;TZID=Australia/Adelaide:20250501T113000
DTSTAMP:20260423T225939
CREATED:20250414T061925Z
LAST-MODIFIED:20250414T062018Z
UID:10004699-1746093600-1746099000@kidsinadelaide.com.au
SUMMARY:Our Local Park Playgroup
DESCRIPTION:Join in on a FREE playgroup meetup on May 1st at Marshmallow Playground!\nIt’ll be a morning full of fun in the sun\, connecting with other parents\, and making new friends\, perfect for kids aged 0–5 years. \nThis event is perfect for families with young children looking to connect with others in the community. Come and enjoy the beautiful park setting while your little ones explore and make new friends. Don’t miss out on this opportunity to create lasting memories with your child in a safe and welcoming environment. \nRegister here
URL:https://kidsinadelaide.com.au/event/our-local-park-playgroup/
LOCATION:marshmallow playground\, Marshmallow Park Playspace\, Adelaide\, SA\, Australia
CATEGORIES:Free,Playgroup
ATTACH;FMTTYPE=image/jpeg:https://kidsinadelaide.com.au/wp-content/uploads/2025/04/469046078_122149552466329695_5443688734872024939_n.jpg
GEO:-34.937749;138.6099964
X-APPLE-STRUCTURED-LOCATION;VALUE=URI;X-ADDRESS=marshmallow playground Marshmallow Park Playspace Adelaide SA Australia;X-APPLE-RADIUS=500;X-TITLE=Marshmallow Park Playspace:geo:138.6099964,-34.937749
END:VEVENT
END:VCALENDAR