BEGIN:VCALENDAR
VERSION:2.0
PRODID:-//Adelaide for Kids – The Ultimate Family Guide | Kids in Adelaide - ECPv6.15.20//NONSGML v1.0//EN
CALSCALE:GREGORIAN
METHOD:PUBLISH
X-WR-CALNAME:Adelaide for Kids – The Ultimate Family Guide | Kids in Adelaide
X-ORIGINAL-URL:https://kidsinadelaide.com.au
X-WR-CALDESC:Events for Adelaide for Kids – The Ultimate Family Guide | Kids in Adelaide
REFRESH-INTERVAL;VALUE=DURATION:PT1H
X-Robots-Tag:noindex
X-PUBLISHED-TTL:PT1H
BEGIN:VTIMEZONE
TZID:Australia/Adelaide
BEGIN:STANDARD
TZOFFSETFROM:+1030
TZOFFSETTO:+0930
TZNAME:ACST
DTSTART:20250405T163000
END:STANDARD
BEGIN:DAYLIGHT
TZOFFSETFROM:+0930
TZOFFSETTO:+1030
TZNAME:ACDT
DTSTART:20251004T163000
END:DAYLIGHT
BEGIN:STANDARD
TZOFFSETFROM:+1030
TZOFFSETTO:+0930
TZNAME:ACST
DTSTART:20260404T163000
END:STANDARD
BEGIN:DAYLIGHT
TZOFFSETFROM:+0930
TZOFFSETTO:+1030
TZNAME:ACDT
DTSTART:20261003T163000
END:DAYLIGHT
BEGIN:STANDARD
TZOFFSETFROM:+1030
TZOFFSETTO:+0930
TZNAME:ACST
DTSTART:20270403T163000
END:STANDARD
BEGIN:DAYLIGHT
TZOFFSETFROM:+0930
TZOFFSETTO:+1030
TZNAME:ACDT
DTSTART:20271002T163000
END:DAYLIGHT
END:VTIMEZONE
BEGIN:VEVENT
DTSTART;VALUE=DATE:20260502
DTEND;VALUE=DATE:20260504
DTSTAMP:20260421T211610
CREATED:20230503T030859Z
LAST-MODIFIED:20260302T073907Z
UID:10003884-1777680000-1777852799@kidsinadelaide.com.au
SUMMARY:Medieval and Rare Trades Festival
DESCRIPTION:Step back in time at the Medieval & Rare Trades Festival\, a family-friendly two-day celebration bringing history to life in the beautiful Gumeracha. \nWatch skilled craftspeople demonstrate traditional and rare trades such as carpentry\, forging\, baking and more\, while enjoying a vibrant medieval atmosphere. \nThere will be plenty to eat and drink\, with a handpicked selection of food vendors serving everything from local favourites to classic medieval-inspired dishes. \nThis non-profit community event supports local groups in the Gumeracha and Torrens Valley region\, making it a fun and meaningful day out for the whole family. \nWHERE: Federation Park\, 32 Albert St\, Gumeracha \nWHEN: 2–3 May 2026 \nTIME: 10:00am – 4:00pm \nCOST: \n\nAdult $25\nStudent $20\nConcession $15\nChild FREE (under 12 years)\nFamily $60\nCompanion Card FREE\n\nClick here to book tickets now
URL:https://kidsinadelaide.com.au/event/medieval-and-rare-trades-festival/
LOCATION:Federation Park\, 32 Albert Street\, Gumeracha\, SA\, 5233\, Australia
CATEGORIES:Featured,Festival
ATTACH;FMTTYPE=image/jpeg:https://kidsinadelaide.com.au/wp-content/uploads/2023/05/medieval-and-rare-trades.jpg
END:VEVENT
END:VCALENDAR