BEGIN:VCALENDAR
VERSION:2.0
PRODID:-//Adelaide for Kids – The Ultimate Family Guide | Kids in Adelaide - ECPv6.15.20//NONSGML v1.0//EN
CALSCALE:GREGORIAN
METHOD:PUBLISH
X-WR-CALNAME:Adelaide for Kids – The Ultimate Family Guide | Kids in Adelaide
X-ORIGINAL-URL:https://kidsinadelaide.com.au
X-WR-CALDESC:Events for Adelaide for Kids – The Ultimate Family Guide | Kids in Adelaide
REFRESH-INTERVAL;VALUE=DURATION:PT1H
X-Robots-Tag:noindex
X-PUBLISHED-TTL:PT1H
BEGIN:VTIMEZONE
TZID:Australia/Adelaide
BEGIN:STANDARD
TZOFFSETFROM:+1030
TZOFFSETTO:+0930
TZNAME:ACST
DTSTART:20250405T163000
END:STANDARD
BEGIN:DAYLIGHT
TZOFFSETFROM:+0930
TZOFFSETTO:+1030
TZNAME:ACDT
DTSTART:20251004T163000
END:DAYLIGHT
BEGIN:STANDARD
TZOFFSETFROM:+1030
TZOFFSETTO:+0930
TZNAME:ACST
DTSTART:20260404T163000
END:STANDARD
BEGIN:DAYLIGHT
TZOFFSETFROM:+0930
TZOFFSETTO:+1030
TZNAME:ACDT
DTSTART:20261003T163000
END:DAYLIGHT
BEGIN:STANDARD
TZOFFSETFROM:+1030
TZOFFSETTO:+0930
TZNAME:ACST
DTSTART:20270403T163000
END:STANDARD
BEGIN:DAYLIGHT
TZOFFSETFROM:+0930
TZOFFSETTO:+1030
TZNAME:ACDT
DTSTART:20271002T163000
END:DAYLIGHT
END:VTIMEZONE
BEGIN:VEVENT
DTSTART;TZID=Australia/Adelaide:20260510T113000
DTEND;TZID=Australia/Adelaide:20260510T130000
DTSTAMP:20260424T183635
CREATED:20260327T034524Z
LAST-MODIFIED:20260413T055316Z
UID:10012948-1778412600-1778418000@kidsinadelaide.com.au
SUMMARY:Mother's Day High Tea at Beerenberg
DESCRIPTION:Celebrate Mother’s Day your way with a relaxed High Tea at Beerenberg\, featuring gourmet sausage rolls\, sweet treats\, and our iconic farm made scones crafted with our much loved jams and condiments. Set on our Hahndorf farm\, it’s the perfect place to slow down\, add a bouquet of Mother’s Day tulips or a specialty Beerenberg gift pack\, and spoil Mum with something truly special. \nMother’s Day High Tea experience runs for approximately 90 minutes\, available at 9:30am\, 11am or 2pm. \nFind Out More: beerenberg.com.au/pages/mothers-day-high-tea
URL:https://kidsinadelaide.com.au/event/mothers-day-high-tea-at-beerenberg/2026-05-10/1/
LOCATION:Beerenberg Farm\, 2106 Mount Barker Rd\, Hahndorf\, SA\, 5245\, Australia
CATEGORIES:Mother's Day,Mum
ATTACH;FMTTYPE=image/webp:https://kidsinadelaide.com.au/wp-content/uploads/2026/03/Mothers-Day-High-Tea-Beerenberg2.webp
END:VEVENT
BEGIN:VEVENT
DTSTART;TZID=Australia/Adelaide:20260510T140000
DTEND;TZID=Australia/Adelaide:20260510T153000
DTSTAMP:20260424T183635
CREATED:20260327T034524Z
LAST-MODIFIED:20260413T055316Z
UID:10012949-1778421600-1778427000@kidsinadelaide.com.au
SUMMARY:Mother's Day High Tea at Beerenberg
DESCRIPTION:Celebrate Mother’s Day your way with a relaxed High Tea at Beerenberg\, featuring gourmet sausage rolls\, sweet treats\, and our iconic farm made scones crafted with our much loved jams and condiments. Set on our Hahndorf farm\, it’s the perfect place to slow down\, add a bouquet of Mother’s Day tulips or a specialty Beerenberg gift pack\, and spoil Mum with something truly special. \nMother’s Day High Tea experience runs for approximately 90 minutes\, available at 9:30am\, 11am or 2pm. \nFind Out More: beerenberg.com.au/pages/mothers-day-high-tea
URL:https://kidsinadelaide.com.au/event/mothers-day-high-tea-at-beerenberg/2026-05-10/2/
LOCATION:Beerenberg Farm\, 2106 Mount Barker Rd\, Hahndorf\, SA\, 5245\, Australia
CATEGORIES:Mother's Day,Mum
ATTACH;FMTTYPE=image/webp:https://kidsinadelaide.com.au/wp-content/uploads/2026/03/Mothers-Day-High-Tea-Beerenberg2.webp
END:VEVENT
END:VCALENDAR