BEGIN:VCALENDAR
VERSION:2.0
PRODID:-//Adelaide for Kids – The Ultimate Family Guide | Kids in Adelaide - ECPv6.15.20//NONSGML v1.0//EN
CALSCALE:GREGORIAN
METHOD:PUBLISH
X-ORIGINAL-URL:https://kidsinadelaide.com.au
X-WR-CALDESC:Events for Adelaide for Kids – The Ultimate Family Guide | Kids in Adelaide
REFRESH-INTERVAL;VALUE=DURATION:PT1H
X-Robots-Tag:noindex
X-PUBLISHED-TTL:PT1H
BEGIN:VTIMEZONE
TZID:Australia/Adelaide
BEGIN:STANDARD
TZOFFSETFROM:+1030
TZOFFSETTO:+0930
TZNAME:ACST
DTSTART:20250405T163000
END:STANDARD
BEGIN:DAYLIGHT
TZOFFSETFROM:+0930
TZOFFSETTO:+1030
TZNAME:ACDT
DTSTART:20251004T163000
END:DAYLIGHT
BEGIN:STANDARD
TZOFFSETFROM:+1030
TZOFFSETTO:+0930
TZNAME:ACST
DTSTART:20260404T163000
END:STANDARD
BEGIN:DAYLIGHT
TZOFFSETFROM:+0930
TZOFFSETTO:+1030
TZNAME:ACDT
DTSTART:20261003T163000
END:DAYLIGHT
BEGIN:STANDARD
TZOFFSETFROM:+1030
TZOFFSETTO:+0930
TZNAME:ACST
DTSTART:20270403T163000
END:STANDARD
BEGIN:DAYLIGHT
TZOFFSETFROM:+0930
TZOFFSETTO:+1030
TZNAME:ACDT
DTSTART:20271002T163000
END:DAYLIGHT
END:VTIMEZONE
BEGIN:VEVENT
DTSTART;TZID=Australia/Adelaide:20260422T100000
DTEND;TZID=Australia/Adelaide:20260422T123000
DTSTAMP:20260421T230315
CREATED:20260407T114355Z
LAST-MODIFIED:20260407T114355Z
UID:10012576-1776852000-1776861000@kidsinadelaide.com.au
SUMMARY:Free Balloon Dog Biscuit Decorating with Spoon & Spatula - Ages 3 - 5 years
DESCRIPTION:Sign up your little baker 3-5 years to enjoy learning how to decorate a Balloon Dog Biscuit these school holidays! \nKids will love being guided through how to decorate their very own Balloon Dog Biscuit with the team from Spoon & Spatula these school holidays! \nBook our FREE 3-5 years daily session now!\nThis session will run for approximately 30 minutes. \nSession 1: 12:30pm – 1:00pm\nTerms & Conditions\nBy securing a ticket\, you accept these Terms and Conditions: \nActivities are designed for children aged 3–5 years.\nPlease arrive on time. Participants arriving more than 5 minutes late will be considered a no-show\, and their spot may be given to walk-ins.\nGiven the nature of this activity\, we are unable to accommodate allergies or special dietary requirements.
URL:https://kidsinadelaide.com.au/event/free-balloon-dog-biscuit-decorating-with-spoon-spatula-ages-3-5-years/2026-04-22/
LOCATION:Mount Barker Central Shopping Centre\, 15 McLaren Street\, Mount Barker\, 5251\, Australia
CATEGORIES:April School Holiday Feature Events,April School Holidays,Children,Family,Free,Indoor,School Holidays
ATTACH;FMTTYPE=image/jpeg:https://kidsinadelaide.com.au/wp-content/uploads/2026/04/April-2026-Event-Image-1.jpg
ORGANIZER;CN="Mount Barker Central Shopping Centre":MAILTO:info@spoonandspatulabaking.com
GEO:-35.0638233;138.8599831
X-APPLE-STRUCTURED-LOCATION;VALUE=URI;X-ADDRESS=Mount Barker Central Shopping Centre 15 McLaren Street Mount Barker 5251 Australia;X-APPLE-RADIUS=500;X-TITLE=15 McLaren Street:geo:138.8599831,-35.0638233
END:VEVENT
BEGIN:VEVENT
DTSTART;TZID=Australia/Adelaide:20260530T183000
DTEND;TZID=Australia/Adelaide:20260530T213000
DTSTAMP:20260421T230315
CREATED:20260414T062803Z
LAST-MODIFIED:20260414T064127Z
UID:10012953-1780165800-1780176600@kidsinadelaide.com.au
SUMMARY:Movie Themed Roller Disco
DESCRIPTION:MOVIE THEMED ROLLER DISCO \nGet ready to roll out the red carpet and hit the rink for a night of movie magic at Blackwood Rec Centre! Join us on Saturday 30th May from 6:30–9:30pm for an unforgettable Movie Themed Roller Disco. \nDress up as your favourite movie character\, skate to iconic soundtracks\, and enjoy a fun-filled night with friends and family. There’ll be games\, awesome prizes\, and a face painter to keep the fun going all night long! \nTickets: \n\nSkaters – $13\nSpectators – $6\n\nplease note all children under the age of 12 must be supervised by an adult \nBook now – https://www.trybooking.com/DKXMN
URL:https://kidsinadelaide.com.au/event/movie-themed-roller-disco/
LOCATION:Blackwood Recreation Centre\, Northcote Road\, Eden Hills\, SA\, 5050\, Australia
CATEGORIES:Children,Community,Family,Skate
ATTACH;FMTTYPE=image/jpeg:https://kidsinadelaide.com.au/wp-content/uploads/2026/04/2026-Movie-Themed-Roller-Disco.jpg
ORGANIZER;CN="Blackwood Recreation Centre":MAILTO:contactus@blackwoodrec.com.au
GEO:-35.0267245;138.6053436
X-APPLE-STRUCTURED-LOCATION;VALUE=URI;X-ADDRESS=Blackwood Recreation Centre Northcote Road Eden Hills SA 5050 Australia;X-APPLE-RADIUS=500;X-TITLE=Northcote Road:geo:138.6053436,-35.0267245
END:VEVENT
END:VCALENDAR