BEGIN:VCALENDAR
VERSION:2.0
PRODID:-//Adelaide for Kids – The Ultimate Family Guide | Kids in Adelaide - ECPv6.15.20//NONSGML v1.0//EN
CALSCALE:GREGORIAN
METHOD:PUBLISH
X-ORIGINAL-URL:https://kidsinadelaide.com.au
X-WR-CALDESC:Events for Adelaide for Kids – The Ultimate Family Guide | Kids in Adelaide
REFRESH-INTERVAL;VALUE=DURATION:PT1H
X-Robots-Tag:noindex
X-PUBLISHED-TTL:PT1H
BEGIN:VTIMEZONE
TZID:Australia/Adelaide
BEGIN:STANDARD
TZOFFSETFROM:+1030
TZOFFSETTO:+0930
TZNAME:ACST
DTSTART:20220402T163000
END:STANDARD
BEGIN:DAYLIGHT
TZOFFSETFROM:+0930
TZOFFSETTO:+1030
TZNAME:ACDT
DTSTART:20221001T163000
END:DAYLIGHT
BEGIN:STANDARD
TZOFFSETFROM:+1030
TZOFFSETTO:+0930
TZNAME:ACST
DTSTART:20230401T163000
END:STANDARD
BEGIN:DAYLIGHT
TZOFFSETFROM:+0930
TZOFFSETTO:+1030
TZNAME:ACDT
DTSTART:20230930T163000
END:DAYLIGHT
BEGIN:STANDARD
TZOFFSETFROM:+1030
TZOFFSETTO:+0930
TZNAME:ACST
DTSTART:20240406T163000
END:STANDARD
BEGIN:DAYLIGHT
TZOFFSETFROM:+0930
TZOFFSETTO:+1030
TZNAME:ACDT
DTSTART:20241005T163000
END:DAYLIGHT
END:VTIMEZONE
BEGIN:VEVENT
DTSTART;TZID=Australia/Adelaide:20231125T090000
DTEND;TZID=Australia/Adelaide:20231125T210000
DTSTAMP:20260422T010647
CREATED:20231124T002813Z
LAST-MODIFIED:20231124T002813Z
UID:10004993-1700902800-1700946000@kidsinadelaide.com.au
SUMMARY:Acai Affair Grand Opening FREE Frozen Yoghurt First 100 Customers
DESCRIPTION:Be one of the first 100 customers to visit the brand new Acai Affair on King William Road at Hyde Park this Saturday 25th November and you can have a FREE $15 Acai or Frozen Yoghurt and 25% off there after. \nAcai Affair is a premium self serve Acai and Frozen Yoghurt Bar. \nThere is also free face painting from 10.30am to 2.30pm on the day. \nOpen from 9 am to 9pm\, deal valid for the first 100 customers. \n 
URL:https://kidsinadelaide.com.au/event/acai-affair-grand-opening-free-frozen-yoghurt-first-100-customers/
LOCATION:Acai Affair\, 1/110 King William Road\, Hyde Park\, SA\, Australia
CATEGORIES:Free
ATTACH;FMTTYPE=image/jpeg:https://kidsinadelaide.com.au/wp-content/uploads/2023/11/acai-affair.jpg
END:VEVENT
END:VCALENDAR