BEGIN:VCALENDAR
VERSION:2.0
PRODID:-//Adelaide for Kids – The Ultimate Family Guide | Kids in Adelaide - ECPv6.15.20//NONSGML v1.0//EN
CALSCALE:GREGORIAN
METHOD:PUBLISH
X-ORIGINAL-URL:https://kidsinadelaide.com.au
X-WR-CALDESC:Events for Adelaide for Kids – The Ultimate Family Guide | Kids in Adelaide
REFRESH-INTERVAL;VALUE=DURATION:PT1H
X-Robots-Tag:noindex
X-PUBLISHED-TTL:PT1H
BEGIN:VTIMEZONE
TZID:Australia/Adelaide
BEGIN:STANDARD
TZOFFSETFROM:+1030
TZOFFSETTO:+0930
TZNAME:ACST
DTSTART:20240406T163000
END:STANDARD
BEGIN:DAYLIGHT
TZOFFSETFROM:+0930
TZOFFSETTO:+1030
TZNAME:ACDT
DTSTART:20241005T163000
END:DAYLIGHT
BEGIN:STANDARD
TZOFFSETFROM:+1030
TZOFFSETTO:+0930
TZNAME:ACST
DTSTART:20250405T163000
END:STANDARD
BEGIN:DAYLIGHT
TZOFFSETFROM:+0930
TZOFFSETTO:+1030
TZNAME:ACDT
DTSTART:20251004T163000
END:DAYLIGHT
BEGIN:STANDARD
TZOFFSETFROM:+1030
TZOFFSETTO:+0930
TZNAME:ACST
DTSTART:20260404T163000
END:STANDARD
BEGIN:DAYLIGHT
TZOFFSETFROM:+0930
TZOFFSETTO:+1030
TZNAME:ACDT
DTSTART:20261003T163000
END:DAYLIGHT
BEGIN:STANDARD
TZOFFSETFROM:+1030
TZOFFSETTO:+0930
TZNAME:ACST
DTSTART:20270403T163000
END:STANDARD
BEGIN:DAYLIGHT
TZOFFSETFROM:+0930
TZOFFSETTO:+1030
TZNAME:ACDT
DTSTART:20271002T163000
END:DAYLIGHT
END:VTIMEZONE
BEGIN:VEVENT
DTSTART;TZID=Australia/Adelaide:20260417T170000
DTEND;TZID=Australia/Adelaide:20260417T210000
DTSTAMP:20260423T214802
CREATED:20260313T072812Z
LAST-MODIFIED:20260313T072812Z
UID:10012108-1776445200-1776459600@kidsinadelaide.com.au
SUMMARY:Market Lane
DESCRIPTION:✨ Celebrate SA Youth Week at Burnside Market Lane! ✨ \nJoin us this school holidays for a vibrant Friday night market celebrating the creativity and talent of young people in the City of Burnside. \nBurnside Market Lane will feature:\n🛍️ Youth-led market stalls\n🎶 Live music from young buskers\n🎨 Live artists creating work in real time\n🎮 Interactive activities and games \nBrowse stalls from local makers\, artists and small businesses showcasing handmade crafts\, artwork\, fashion\, food and other unique products. \nWhether you’re searching for one-of-a-kind treasures\, keen to support emerging creatives\, or simply want to hang out with friends and enjoy live music\, Market Lane is the perfect way to spend your Friday evening. 🌙✨
URL:https://kidsinadelaide.com.au/event/market-lane/
LOCATION:Burnside Civic Centre\, 401 Greenhill Rd\, Burnside\, SA\, 5065\, Australia
CATEGORIES:April School Holidays,Youth
ATTACH;FMTTYPE=image/jpeg:https://kidsinadelaide.com.au/wp-content/uploads/2026/03/Youth-markets-940px-788px-.jpg
ORGANIZER;CN="CityofBurnside":MAILTO:burnside@burnside.sa.gov.au
GEO:-34.9469002;138.6489134
X-APPLE-STRUCTURED-LOCATION;VALUE=URI;X-ADDRESS=Burnside Civic Centre 401 Greenhill Rd Burnside SA 5065 Australia;X-APPLE-RADIUS=500;X-TITLE=401 Greenhill Rd:geo:138.6489134,-34.9469002
END:VEVENT
BEGIN:VEVENT
DTSTART;TZID=Australia/Adelaide:20260410T180000
DTEND;TZID=Australia/Adelaide:20260410T213000
DTSTAMP:20260423T214802
CREATED:20260227T051405Z
LAST-MODIFIED:20260302T094739Z
UID:10010609-1775844000-1775856600@kidsinadelaide.com.au
SUMMARY:City of Burnside: Outdoor Movie Night – Paddington in Peru
DESCRIPTION:The countdown is on for the City of Burnside’s 2026 Outdoor Movie Night! 🎬✨ \nThis year\, the City of Burnside is screening Paddington in Peru – a heartwarming adventure the whole family will love 🐻💛\nBring your favourite teddy bear\, a picnic rug and some comfy chairs\, and settle in for a fantastic evening under the stars.\nEnjoy: \n🍔 Delicious food trucks\n🎨 Face painting\n🧸 Sensory tent\n🌙 A magical outdoor cinema experience \n📍 Hanson Reserve\, Tusmore\n📅 Friday 10 April 2026\n⏰ From 6pm (food trucks & face painting)\n🎥 Movie starts approx. 6:30pm \nMore info: https://www.burnside.sa.gov.au/Whats-On/Public-Events/Outdoor-Movie-Night-Paddington-in-Peru
URL:https://kidsinadelaide.com.au/event/city-of-burnside-outdoor-movie-night-paddington-in-peru/
LOCATION:Hanson Reserve\, Tusmore Park\, 4 Kennaway Street\, Tusmore\, SA\, 5065\, Australia
CATEGORIES:April School Holidays,Easter,Family,Free,Outdoor Cinema,School Holidays,Youth
ATTACH;FMTTYPE=image/jpeg:https://kidsinadelaide.com.au/wp-content/uploads/2026/02/Paddington-in-Peru-Burnside.jpg
GEO:-34.9328365;138.6476992
X-APPLE-STRUCTURED-LOCATION;VALUE=URI;X-ADDRESS=Hanson Reserve Tusmore Park 4 Kennaway Street Tusmore SA 5065 Australia;X-APPLE-RADIUS=500;X-TITLE=4 Kennaway Street:geo:138.6476992,-34.9328365
END:VEVENT
BEGIN:VEVENT
DTSTART;TZID=Australia/Adelaide:20260122T100000
DTEND;TZID=Australia/Adelaide:20260122T104500
DTSTAMP:20260423T214802
CREATED:20251227T002425Z
LAST-MODIFIED:20251227T002425Z
UID:10008289-1769076000-1769078700@kidsinadelaide.com.au
SUMMARY:Baking MasterClass for Children
DESCRIPTION:Make memories and enjoy delicious treats this summer\, simply bring your child to our Miele Kids Cooking Class. \nFrom starting ingredients to final decorations\, children can learn the baking basics while you unwind with tea or coffee – and a fresh cookie or two. \nEach event hosts 10 children\, while accompanying adults can relax in the Experience Centre for the class duration. \nPlease place booking for children only\, guardians do not need to book.
URL:https://kidsinadelaide.com.au/event/baking-masterclass-for-children/2026-01-22/
LOCATION:Miele Experience\, 83-85 Sir Donald Bradman Dr\, Hilton South Australia\, HILTON\, 5033\, Australia
ATTACH;FMTTYPE=image/jpeg:https://kidsinadelaide.com.au/wp-content/uploads/2025/12/image-for-cookie-event.jpg
ORGANIZER;CN="Miele":MAILTO:alex.riach@miele.com
GEO:-34.9321144;138.5687746
X-APPLE-STRUCTURED-LOCATION;VALUE=URI;X-ADDRESS=Miele Experience 83-85 Sir Donald Bradman Dr Hilton South Australia HILTON 5033 Australia;X-APPLE-RADIUS=500;X-TITLE=83-85 Sir Donald Bradman Dr\, Hilton South Australia:geo:138.5687746,-34.9321144
END:VEVENT
BEGIN:VEVENT
DTSTART;TZID=Australia/Adelaide:20251221T173000
DTEND;TZID=Australia/Adelaide:20251221T200000
DTSTAMP:20260423T214802
CREATED:20251029T053253Z
LAST-MODIFIED:20251029T053253Z
UID:10006224-1766338200-1766347200@kidsinadelaide.com.au
SUMMARY:Carols on the Oval hosted by Glen Osmond Baptist Church
DESCRIPTION:Glen Osmond Baptist Church invites you to their annual Carols on the Oval celebration at Glen Osmond Primary School. Bring your family and friends to this light-filled evening of Christmas joy on Sunday 21st of December from 5:30 pm. \nJoin in the spirit of the season and sing-along with Christmas Carols performed by Glen Osmond Baptist Church. \nEnjoy FREE family-friendly Christmas fun:\nLawn games\nFace painting & henna\nJumping castle\nSensory play\nSausage sizzle \nFind the light in the darkness this Christmas season with Carols on the Oval hosted by Glen Osmond Baptist Church. \nGlen Osmond Primary School Oval\, 5 Fisher Ave Myrtle Bank\nSunday 21st of December\, 5:30 pm – 8 pm
URL:https://kidsinadelaide.com.au/event/carols-on-the-oval-hosted-by-glen-osmond-baptist-church/
LOCATION:Glen Osmond Primary School Oval\, 5 Fisher St\, Myrtle Bank\, 5064
CATEGORIES:Children,Christmas Carols,Community,December School Holidays,Family,Free,Outdoor,School Holidays
ATTACH;FMTTYPE=image/jpeg:https://kidsinadelaide.com.au/wp-content/uploads/2025/10/CAROLS-ON-THE-OVAL-2025.jpg
ORGANIZER;CN="Glen Osmond Baptist Church":MAILTO:gavin@gobaptist.org.au
END:VEVENT
BEGIN:VEVENT
DTSTART;TZID=Australia/Adelaide:20251128T090000
DTEND;TZID=Australia/Adelaide:20260104T235900
DTSTAMP:20260423T214802
CREATED:20251124T105209Z
LAST-MODIFIED:20251124T105209Z
UID:10006292-1764320400-1767571140@kidsinadelaide.com.au
SUMMARY:Melbourne Street Christmas Gnome Trail
DESCRIPTION:Mischievous gnomes have snuck into shop and café windows all along Melbourne Street\, North Adelaide! \nCount them for your chance to win a handmade gnome and $100 to spend on Melbourne St. \nFor more details and to enter the competition\, visit the website or scan the QR code on the footpath stickers\, posters or postcards\, and enter before 4 Jan. T&C’s apply. \nThey’ll be hiding from 28 November 2025 to 4 January 2026- perfect for a daylight gnome hunt. \nHave fun and enjoy a roaming gnome-ing Christmas!
URL:https://kidsinadelaide.com.au/event/melbourne-street-christmas-gnome-trail/
LOCATION:Melbourne Street\, Melbourne Street\, North Adelaide\, SA\, 5001\, Australia
CATEGORIES:Adelaide Christmas Festival,Christmas in Adelaide City,Christmas School Holiday Feature Events,Community,December School Holidays,December-School-Holidays-Featured,Family,Free,Outdoor,School Holidays
ATTACH;FMTTYPE=image/jpeg:https://kidsinadelaide.com.au/wp-content/uploads/2025/11/Gnome-image-2.jpg
END:VEVENT
BEGIN:VEVENT
DTSTART;TZID=Australia/Adelaide:20251001T100000
DTEND;TZID=Australia/Adelaide:20251001T110000
DTSTAMP:20260423T214802
CREATED:20251001T003935Z
LAST-MODIFIED:20251001T003935Z
UID:10006154-1759312800-1759316400@kidsinadelaide.com.au
SUMMARY:Kids Cork Bee Making Workshops
DESCRIPTION:These school holidays\, let the kids get creative at Kies Winery / Monkey Nut Cafe’s Kids’ Cork-Bee Making Workshop!\n\nUsing recycled wine corks from Kies Family Wines\, little ones will design their very own bee\, complete with felt wings\, pipe cleaner legs\, and paint marker details.\n\nIt’s hands-on fun that ties in with their Budburst in the Barossa theme\, celebrating the magic of springtime in the vines.\n(They have the cutest kids lunch / snack pack all themed up too for $12)\n\nWorkshop Details: Dates: Monday–Friday\, 29th Sept – 3rd Oct & Tuesday – Friday\, 7th – 10th Oct Time: 10:00am Cost: $5 per child Inclusions: bee-making materials\, recycled cork\, and a glass of kids’ sparkling grape juice\nA buzzworthy mix of creativity\, sustainability\, and Barossa springtime fun! \n Limited spots each day – book your child’s place now!\n\nBOOK HERE EARLY TO AVOID DISAPPOINTMENT\n\nMore about this fabulous family friendly winery HERE
URL:https://kidsinadelaide.com.au/event/kids-cork-bee-making-workshops/
LOCATION:Monkey Nut Cafe\, 1303 Barossa Valley Way\, Lyndoch\, SA\, 5351
ATTACH;FMTTYPE=image/jpeg:https://kidsinadelaide.com.au/wp-content/uploads/2025/10/Kids-cork-Bee-Making.jpg
END:VEVENT
END:VCALENDAR