BEGIN:VCALENDAR
VERSION:2.0
PRODID:-//Adelaide for Kids – The Ultimate Family Guide | Kids in Adelaide - ECPv6.15.20//NONSGML v1.0//EN
CALSCALE:GREGORIAN
METHOD:PUBLISH
X-ORIGINAL-URL:https://kidsinadelaide.com.au
X-WR-CALDESC:Events for Adelaide for Kids – The Ultimate Family Guide | Kids in Adelaide
REFRESH-INTERVAL;VALUE=DURATION:PT1H
X-Robots-Tag:noindex
X-PUBLISHED-TTL:PT1H
BEGIN:VTIMEZONE
TZID:Australia/Adelaide
BEGIN:STANDARD
TZOFFSETFROM:+1030
TZOFFSETTO:+0930
TZNAME:ACST
DTSTART:20250405T163000
END:STANDARD
BEGIN:DAYLIGHT
TZOFFSETFROM:+0930
TZOFFSETTO:+1030
TZNAME:ACDT
DTSTART:20251004T163000
END:DAYLIGHT
BEGIN:STANDARD
TZOFFSETFROM:+1030
TZOFFSETTO:+0930
TZNAME:ACST
DTSTART:20260404T163000
END:STANDARD
BEGIN:DAYLIGHT
TZOFFSETFROM:+0930
TZOFFSETTO:+1030
TZNAME:ACDT
DTSTART:20261003T163000
END:DAYLIGHT
BEGIN:STANDARD
TZOFFSETFROM:+1030
TZOFFSETTO:+0930
TZNAME:ACST
DTSTART:20270403T163000
END:STANDARD
BEGIN:DAYLIGHT
TZOFFSETFROM:+0930
TZOFFSETTO:+1030
TZNAME:ACDT
DTSTART:20271002T163000
END:DAYLIGHT
END:VTIMEZONE
BEGIN:VEVENT
DTSTART;TZID=Australia/Adelaide:20260118T090000
DTEND;TZID=Australia/Adelaide:20260118T150000
DTSTAMP:20260420T015400
CREATED:20250309T090155Z
LAST-MODIFIED:20260107T035225Z
UID:10006114-1768726800-1768748400@kidsinadelaide.com.au
SUMMARY:Stirling Laneways
DESCRIPTION:Stirling Laneways + Spin Social is a special January edition of Stirling’s much-loved laneways market\, combining the vibrant market atmosphere with a relaxed\, family-friendly community celebration. Held on the Stirling Library Lawns\, the event features market stalls\, live music throughout the day\, great food trucks\, face painting\, henna\, kids’ crafts\, giant lawn games and storytime. With a fun summer “Think Pink” theme and plenty to see and do\, it’s a perfect school-holiday outing for families to eat\, play\, shop and enjoy the festive buzz as Stirling gears up for the Tour Down Under. \nOn this occasion Stirling Market will not be using Durid Avenue on this date\, so there will be extra parking space! \nCoe along with the family\, the kids\, the dog between 9am – 3pm Sunday 18th January 2026 \n_________________________________________________ \nWant to know about future dates? Stirling Laneways is half way through it’s 2025/26 and twelfth season> It’s so much more than “just” a market. It is a celebration of local village life and the spectacular seasons in the Adelaide Hills and brings something colourful\, cozy and a little bit crazy to market Sundays in Stirling. \nStirling Laneways is located in the pedestrian laneways and spaces which stem directly from the main street (Mt Barker Road). \nLaneways splashes giant strokes of colour into the streets and tucked away places of Stirling\, and our bright and colourful tell-tale bunting lets you know when you’re in the midst of Laneways. \nFollow your feet to discover the incredible South Australian artists and entertainers mingled between our local traders and pop-up stalls. \n2025/2026 Season Dates \n\nSeptember 28th 2025 (season launch)\nOctober 26th 2025\nNovember 23rd 2025\nDecember 21st 2025\nJanuary 18th 2026\nFebruary 22nd 2026\nMarch 22nd 2026\nApril 26th 2026\n\nfind out more here
URL:https://kidsinadelaide.com.au/event/stirling-laneways/
LOCATION:Stirling Laneways\, Mount Barker Road\, Stirling\, SA\, 5152\, Australia
CATEGORIES:Market
ATTACH;FMTTYPE=image/jpeg:https://kidsinadelaide.com.au/wp-content/uploads/2025/03/Stirling-Lane-Ways-January-2026-Think-Pink.jpg
GEO:-35.0095212;138.7300978
X-APPLE-STRUCTURED-LOCATION;VALUE=URI;X-ADDRESS=Stirling Laneways Mount Barker Road Stirling SA 5152 Australia;X-APPLE-RADIUS=500;X-TITLE=Mount Barker Road:geo:138.7300978,-35.0095212
END:VEVENT
END:VCALENDAR