BEGIN:VCALENDAR
VERSION:2.0
PRODID:-//Adelaide for Kids – The Ultimate Family Guide | Kids in Adelaide - ECPv6.15.20//NONSGML v1.0//EN
CALSCALE:GREGORIAN
METHOD:PUBLISH
X-WR-CALNAME:Adelaide for Kids – The Ultimate Family Guide | Kids in Adelaide
X-ORIGINAL-URL:https://kidsinadelaide.com.au
X-WR-CALDESC:Events for Adelaide for Kids – The Ultimate Family Guide | Kids in Adelaide
REFRESH-INTERVAL;VALUE=DURATION:PT1H
X-Robots-Tag:noindex
X-PUBLISHED-TTL:PT1H
BEGIN:VTIMEZONE
TZID:Australia/Adelaide
BEGIN:STANDARD
TZOFFSETFROM:+1030
TZOFFSETTO:+0930
TZNAME:ACST
DTSTART:20240406T163000
END:STANDARD
BEGIN:DAYLIGHT
TZOFFSETFROM:+0930
TZOFFSETTO:+1030
TZNAME:ACDT
DTSTART:20241005T163000
END:DAYLIGHT
BEGIN:STANDARD
TZOFFSETFROM:+1030
TZOFFSETTO:+0930
TZNAME:ACST
DTSTART:20250405T163000
END:STANDARD
BEGIN:DAYLIGHT
TZOFFSETFROM:+0930
TZOFFSETTO:+1030
TZNAME:ACDT
DTSTART:20251004T163000
END:DAYLIGHT
BEGIN:STANDARD
TZOFFSETFROM:+1030
TZOFFSETTO:+0930
TZNAME:ACST
DTSTART:20260404T163000
END:STANDARD
BEGIN:DAYLIGHT
TZOFFSETFROM:+0930
TZOFFSETTO:+1030
TZNAME:ACDT
DTSTART:20261003T163000
END:DAYLIGHT
END:VTIMEZONE
BEGIN:VEVENT
DTSTART;TZID=Australia/Adelaide:20251206T190000
DTEND;TZID=Australia/Adelaide:20251206T210000
DTSTAMP:20260422T155717
CREATED:20251201T223720Z
LAST-MODIFIED:20251201T223720Z
UID:10006311-1765047600-1765054800@kidsinadelaide.com.au
SUMMARY:Para Vista Community Carols
DESCRIPTION:Make beautiful memories with your family and friends this Christmas and come along to the Para Vista Community Carols. \nBring your friends and family and enjoy the story of the first Christmas in song and storytelling at Good Shepherd Lutheran Church (Oh… it’s free by the way!) \nWe look forward to welcoming you for a wonderful night of fun\, love and connection.
URL:https://kidsinadelaide.com.au/event/para-vista-community-carols/
LOCATION:Good Shepherd Lutheran Church\, 388 Montague Road\, Para Vista\, 5093
CATEGORIES:Community
ATTACH;FMTTYPE=image/jpeg:https://kidsinadelaide.com.au/wp-content/uploads/2025/12/Community-Carols-FB-2025.jpg
ORGANIZER;CN="Good Shepherd Lutheran Church":MAILTO:https://www.paravista.org.au/
GEO:-34.8284692;138.6669343
X-APPLE-STRUCTURED-LOCATION;VALUE=URI;X-ADDRESS=Good Shepherd Lutheran Church 388 Montague Road Para Vista 5093;X-APPLE-RADIUS=500;X-TITLE=388 Montague Road:geo:138.6669343,-34.8284692
END:VEVENT
END:VCALENDAR