BEGIN:VCALENDAR
VERSION:2.0
PRODID:-//Adelaide for Kids – The Ultimate Family Guide | Kids in Adelaide - ECPv6.15.20//NONSGML v1.0//EN
CALSCALE:GREGORIAN
METHOD:PUBLISH
X-ORIGINAL-URL:https://kidsinadelaide.com.au
X-WR-CALDESC:Events for Adelaide for Kids – The Ultimate Family Guide | Kids in Adelaide
REFRESH-INTERVAL;VALUE=DURATION:PT1H
X-Robots-Tag:noindex
X-PUBLISHED-TTL:PT1H
BEGIN:VTIMEZONE
TZID:Australia/Adelaide
BEGIN:STANDARD
TZOFFSETFROM:+1030
TZOFFSETTO:+0930
TZNAME:ACST
DTSTART:20240406T163000
END:STANDARD
BEGIN:DAYLIGHT
TZOFFSETFROM:+0930
TZOFFSETTO:+1030
TZNAME:ACDT
DTSTART:20241005T163000
END:DAYLIGHT
BEGIN:STANDARD
TZOFFSETFROM:+1030
TZOFFSETTO:+0930
TZNAME:ACST
DTSTART:20250405T163000
END:STANDARD
BEGIN:DAYLIGHT
TZOFFSETFROM:+0930
TZOFFSETTO:+1030
TZNAME:ACDT
DTSTART:20251004T163000
END:DAYLIGHT
BEGIN:STANDARD
TZOFFSETFROM:+1030
TZOFFSETTO:+0930
TZNAME:ACST
DTSTART:20260404T163000
END:STANDARD
BEGIN:DAYLIGHT
TZOFFSETFROM:+0930
TZOFFSETTO:+1030
TZNAME:ACDT
DTSTART:20261003T163000
END:DAYLIGHT
BEGIN:STANDARD
TZOFFSETFROM:+1030
TZOFFSETTO:+0930
TZNAME:ACST
DTSTART:20270403T163000
END:STANDARD
BEGIN:DAYLIGHT
TZOFFSETFROM:+0930
TZOFFSETTO:+1030
TZNAME:ACDT
DTSTART:20271002T163000
END:DAYLIGHT
END:VTIMEZONE
BEGIN:VEVENT
DTSTART;TZID=Australia/Adelaide:20260121T104500
DTEND;TZID=Australia/Adelaide:20260121T130000
DTSTAMP:20260426T020640
CREATED:20260104T231704Z
LAST-MODIFIED:20260104T232025Z
UID:10008304-1768992300-1769000400@kidsinadelaide.com.au
SUMMARY:Walk for Wildlife this Tour Down Under﻿ at Kies Family Wines
DESCRIPTION:Head to the front lawns of Kies Family Wines\, where they’ll be creating a giant bike and you can be part of the wheels!\nEvery lap walked will help raise vital funds to care for injured\, orphaned\, and displaced native animals in the Barossa region. \nWhether you’re a family\, a school group\, or a bunch of friends\, this is a fun and meaningful way to get involved in the Tour Down Under celebrations.\nThink of it as a walkathon with a purpose\, fresh air\, community spirit\, and a chance to make a real difference for local wildlife. \nSign up to walk or donate here
URL:https://kidsinadelaide.com.au/event/walk-for-wildlife-this-tour-down-under-at-kies-family-wines/
LOCATION:Kies Family Winery\, 1303 Barossa Valley Way\, Lyndoch\, SA\, 5351\, Australia
CATEGORIES:Charity
ATTACH;FMTTYPE=image/jpeg:https://kidsinadelaide.com.au/wp-content/uploads/2026/01/barossa-walkathon-at-kies.jpg
GEO:-34.5943665;138.8837011
X-APPLE-STRUCTURED-LOCATION;VALUE=URI;X-ADDRESS=Kies Family Winery 1303 Barossa Valley Way Lyndoch SA 5351 Australia;X-APPLE-RADIUS=500;X-TITLE=1303 Barossa Valley Way:geo:138.8837011,-34.5943665
END:VEVENT
BEGIN:VEVENT
DTSTART;TZID=Australia/Adelaide:20251220T163000
DTEND;TZID=Australia/Adelaide:20251220T220000
DTSTAMP:20260426T020640
CREATED:20251205T041544Z
LAST-MODIFIED:20251205T041627Z
UID:10006336-1766248200-1766268000@kidsinadelaide.com.au
SUMMARY:Christmas at Sunset at Kies
DESCRIPTION:Christmas at Sunset is a festive family celebration at Kies\, in the heart of the Barossa. As the sun sets over the vines\, kids can enjoy a Candy Cane Hunt\, Christmas crafts\, and plenty of space to play under the big marquee.\nFamilies can relax with picnic rugs\, food from Caro Club\, and a glass of wine while live music sets the perfect summer mood. A warm\, joyful community evening\, made for families. \nTickets are just $10 per adult and include your very own Kies Family Wines souvenir picnic glass to take home.Children under 18 are free.Furry friends are welcome too! \nTickets online here
URL:https://kidsinadelaide.com.au/event/christmas-at-sunset-at-kies/
LOCATION:Kies Family Winery\, 1303 Barossa Valley Way\, Lyndoch\, SA\, 5351\, Australia
CATEGORIES:Christmas,Christmas School Holiday Feature Events
ATTACH;FMTTYPE=image/webp:https://kidsinadelaide.com.au/wp-content/uploads/2025/11/christmas-at-sunset-at-kies.webp
GEO:-34.5943665;138.8837011
X-APPLE-STRUCTURED-LOCATION;VALUE=URI;X-ADDRESS=Kies Family Winery 1303 Barossa Valley Way Lyndoch SA 5351 Australia;X-APPLE-RADIUS=500;X-TITLE=1303 Barossa Valley Way:geo:138.8837011,-34.5943665
END:VEVENT
BEGIN:VEVENT
DTSTART;TZID=Australia/Adelaide:20250712T120000
DTEND;TZID=Australia/Adelaide:20250712T180000
DTSTAMP:20260426T020640
CREATED:20250630T063615Z
LAST-MODIFIED:20250630T063615Z
UID:10005477-1752321600-1752343200@kidsinadelaide.com.au
SUMMARY:Moon Lantern Festival at Kies Winery
DESCRIPTION:The Kies family is delighted to announce the arrival of their newest family member\, Tilly Luna Kies\, born on 30th May 2025 to proud parents Bronson and Lidija Kies. To mark the occasion\, Kies Family Wines will host the inaugural Tilly Luna Moon Lantern Festival\, a joyful celebration of life\, in the heart of the Barossa. Held in the school holidays\, this family friendly event offers an afternoon of fun activities for the kids as well as wine tasting for the adults. \nTilly Luna’s birth inspired the creation of a limited-release wine\, the Tilly Luna Sweet Riesling. Born from adversity\, this wine was crafted from a small parcel of golden Riesling berries that survived the Barossa’s worst frost in decades; berries that symbolise hope for the future\, much like Tilly herself. Tickets are just $10 per adult and include a Tilly Luna branded wine glass\, and a tasting of the brand new Sweet Riesling. Kids aged 5 and under are free and tickets for Kids aged between 5 and 18 are just $5. \nThe Moon Lantern Festival will be held at Kies Family Wines from 12PM on Saturday\, 12th July. \nGuests can expect: \n· Live music by Jamie Blechynden \n· Asian Tucker food truck\, with dishes paired to the Sweet Riesling \n· A Kidz Zone featuring a lantern-decorating competition\, with the winner receiving a $50 voucher to the Monkey Nut Café \nTickets:  \n$10 for adults (includes a commemorative Tilly Luna wine glass) \n$5 for kids aged 5–18\, and free entry for children under 5 \n“We wanted to create something truly memorable to celebrate the arrival of our special little girl\, Tilly Luna\,” says Bronson Kies\, winemaker and proud father. “This festival is not just for our family\, it’s for everyone who wants to share in a little bit of magic.” Tickets are available online or at the gate. \nVisit www.kieswines.com.au for more information.
URL:https://kidsinadelaide.com.au/event/moon-lantern-festival-at-kies-winery/
LOCATION:Kies Family Winery\, 1303 Barossa Valley Way\, Lyndoch\, SA\, 5351\, Australia
CATEGORIES:Dining,Family,July School Holidays
ATTACH;FMTTYPE=image/jpeg:https://kidsinadelaide.com.au/wp-content/uploads/2025/06/Kies-Moon-Lantern.jpg
GEO:-34.5943665;138.8837011
X-APPLE-STRUCTURED-LOCATION;VALUE=URI;X-ADDRESS=Kies Family Winery 1303 Barossa Valley Way Lyndoch SA 5351 Australia;X-APPLE-RADIUS=500;X-TITLE=1303 Barossa Valley Way:geo:138.8837011,-34.5943665
END:VEVENT
END:VCALENDAR