BEGIN:VCALENDAR
VERSION:2.0
PRODID:-//Adelaide for Kids – The Ultimate Family Guide | Kids in Adelaide - ECPv6.15.20//NONSGML v1.0//EN
CALSCALE:GREGORIAN
METHOD:PUBLISH
X-ORIGINAL-URL:https://kidsinadelaide.com.au
X-WR-CALDESC:Events for Adelaide for Kids – The Ultimate Family Guide | Kids in Adelaide
REFRESH-INTERVAL;VALUE=DURATION:PT1H
X-Robots-Tag:noindex
X-PUBLISHED-TTL:PT1H
BEGIN:VTIMEZONE
TZID:Australia/Adelaide
BEGIN:STANDARD
TZOFFSETFROM:+1030
TZOFFSETTO:+0930
TZNAME:ACST
DTSTART:20210403T163000
END:STANDARD
BEGIN:DAYLIGHT
TZOFFSETFROM:+0930
TZOFFSETTO:+1030
TZNAME:ACDT
DTSTART:20211002T163000
END:DAYLIGHT
BEGIN:STANDARD
TZOFFSETFROM:+1030
TZOFFSETTO:+0930
TZNAME:ACST
DTSTART:20220402T163000
END:STANDARD
BEGIN:DAYLIGHT
TZOFFSETFROM:+0930
TZOFFSETTO:+1030
TZNAME:ACDT
DTSTART:20221001T163000
END:DAYLIGHT
BEGIN:STANDARD
TZOFFSETFROM:+1030
TZOFFSETTO:+0930
TZNAME:ACST
DTSTART:20230401T163000
END:STANDARD
BEGIN:DAYLIGHT
TZOFFSETFROM:+0930
TZOFFSETTO:+1030
TZNAME:ACDT
DTSTART:20230930T163000
END:DAYLIGHT
END:VTIMEZONE
BEGIN:VEVENT
DTSTART;VALUE=DATE:20220110
DTEND;VALUE=DATE:20220115
DTSTAMP:20260422T014913
CREATED:20211008T233823Z
LAST-MODIFIED:20211010T224657Z
UID:10004175-1641772800-1642204799@kidsinadelaide.com.au
SUMMARY:Holiday Swim
DESCRIPTION:Want to teach your kids critical life-saving skills and basic swimming skills? Then Holiday Swim is for you! \n\nJanuary 10th – 14th  \nMinda Inc.\, Brighton \nHills Swim School\, Blackwood \nCoober Pedy Swimming Pool\, Coober Pedy \n\nEquip your kids with the knowledge to stay safe in\, on\, and around the water. \nHoliday Swim is a Royal Life Saving Society South Australia initiative bringing affordable and educational swimming and water safety lessons to pools and inland waterway locations across Metro and Regional South Australia since the 1950’s. \nThe aim of keeping the program affordable\, is to reach families and communities that might otherwise miss out on the opportunity to participate in swimming lessons\, and as we approach the busy Summer months now is the time to equip them with the knowledge to save a life. \nThe program will be returning in December 2021 and January 2022 with the Royal Life Saving Swim & Survive program. \nPROGRAM FEES \n$35.00 per child (additional pool entry fees may apply) \nLENGTH / DURATION \n5 days (may vary based on location)\n5yrs+ 45 minute lessonsUnder 5’s 30 minute lessons \nFor more information on dates\, locations and how to book visit: \nhttps://www.holidayswim.com.au
URL:https://kidsinadelaide.com.au/event/holiday-swim-7/
LOCATION:various locations around Adelaide
CATEGORIES:December School Holidays,School Holidays
END:VEVENT
END:VCALENDAR