BEGIN:VCALENDAR
VERSION:2.0
PRODID:-//Adelaide for Kids – The Ultimate Family Guide | Kids in Adelaide - ECPv6.15.20//NONSGML v1.0//EN
CALSCALE:GREGORIAN
METHOD:PUBLISH
X-WR-CALNAME:Adelaide for Kids – The Ultimate Family Guide | Kids in Adelaide
X-ORIGINAL-URL:https://kidsinadelaide.com.au
X-WR-CALDESC:Events for Adelaide for Kids – The Ultimate Family Guide | Kids in Adelaide
REFRESH-INTERVAL;VALUE=DURATION:PT1H
X-Robots-Tag:noindex
X-PUBLISHED-TTL:PT1H
BEGIN:VTIMEZONE
TZID:Australia/Adelaide
BEGIN:STANDARD
TZOFFSETFROM:+1030
TZOFFSETTO:+0930
TZNAME:ACST
DTSTART:20220402T163000
END:STANDARD
BEGIN:DAYLIGHT
TZOFFSETFROM:+0930
TZOFFSETTO:+1030
TZNAME:ACDT
DTSTART:20221001T163000
END:DAYLIGHT
BEGIN:STANDARD
TZOFFSETFROM:+1030
TZOFFSETTO:+0930
TZNAME:ACST
DTSTART:20230401T163000
END:STANDARD
BEGIN:DAYLIGHT
TZOFFSETFROM:+0930
TZOFFSETTO:+1030
TZNAME:ACDT
DTSTART:20230930T163000
END:DAYLIGHT
BEGIN:STANDARD
TZOFFSETFROM:+1030
TZOFFSETTO:+0930
TZNAME:ACST
DTSTART:20240406T163000
END:STANDARD
BEGIN:DAYLIGHT
TZOFFSETFROM:+0930
TZOFFSETTO:+1030
TZNAME:ACDT
DTSTART:20241005T163000
END:DAYLIGHT
END:VTIMEZONE
BEGIN:VEVENT
DTSTART;TZID=Australia/Adelaide:20230325T100000
DTEND;TZID=Australia/Adelaide:20230325T140000
DTSTAMP:20260421T212134
CREATED:20230321T014226Z
LAST-MODIFIED:20230321T014226Z
UID:10003871-1679738400-1679752800@kidsinadelaide.com.au
SUMMARY:MFS Noarlunga Fire Station Open Day
DESCRIPTION:The South Australian Metropolitan Fire Service (MFS) will open the doors to the NEW Noarlunga Command Fire Station. \nJoin them for family fun at the state’s newest fire station\, which officially opened in February 2023. \nThe free\, family-friendly event provides the local community with an insight into the inner workings of a local fire station and will showcase a diverse range of activities that firefighters experience in their daily roles. These include a mock road crash rescue exercise\, an Urban Search and Rescue (USAR) display and demonstration and a close-up look at a variety of fire trucks and equipment. \nWHERE: 1 Goldsmith Drive\, Noarlunga Centre \nWHEN: Saturday 25 March \nTIME: 10 am – 2 pm \n 
URL:https://kidsinadelaide.com.au/event/mfs-noarlunga-fire-station-open-day/
LOCATION:Noarlunga Command Fire Station\, 1 Goldsmith Drive\, Noarlunga Centre\, SA\, 5168\, Australia
CATEGORIES:Family,Free
ATTACH;FMTTYPE=image/jpeg:https://kidsinadelaide.com.au/wp-content/uploads/2023/03/Norlunga-Fire-Station.jpeg
END:VEVENT
END:VCALENDAR