BEGIN:VCALENDAR
VERSION:2.0
PRODID:-//Adelaide for Kids – The Ultimate Family Guide | Kids in Adelaide - ECPv6.15.20//NONSGML v1.0//EN
CALSCALE:GREGORIAN
METHOD:PUBLISH
X-ORIGINAL-URL:https://kidsinadelaide.com.au
X-WR-CALDESC:Events for Adelaide for Kids – The Ultimate Family Guide | Kids in Adelaide
REFRESH-INTERVAL;VALUE=DURATION:PT1H
X-Robots-Tag:noindex
X-PUBLISHED-TTL:PT1H
BEGIN:VTIMEZONE
TZID:Australia/Adelaide
BEGIN:STANDARD
TZOFFSETFROM:+1030
TZOFFSETTO:+0930
TZNAME:ACST
DTSTART:20240406T163000
END:STANDARD
BEGIN:DAYLIGHT
TZOFFSETFROM:+0930
TZOFFSETTO:+1030
TZNAME:ACDT
DTSTART:20241005T163000
END:DAYLIGHT
BEGIN:STANDARD
TZOFFSETFROM:+1030
TZOFFSETTO:+0930
TZNAME:ACST
DTSTART:20250405T163000
END:STANDARD
BEGIN:DAYLIGHT
TZOFFSETFROM:+0930
TZOFFSETTO:+1030
TZNAME:ACDT
DTSTART:20251004T163000
END:DAYLIGHT
BEGIN:STANDARD
TZOFFSETFROM:+1030
TZOFFSETTO:+0930
TZNAME:ACST
DTSTART:20260404T163000
END:STANDARD
BEGIN:DAYLIGHT
TZOFFSETFROM:+0930
TZOFFSETTO:+1030
TZNAME:ACDT
DTSTART:20261003T163000
END:DAYLIGHT
END:VTIMEZONE
BEGIN:VEVENT
DTSTART;VALUE=DATE:20251217
DTEND;VALUE=DATE:20251222
DTSTAMP:20260419T223829
CREATED:20251216T073401Z
LAST-MODIFIED:20251216T073401Z
UID:10006734-1765929600-1766361599@kidsinadelaide.com.au
SUMMARY:South Australia Cricket Christmas Test Festival
DESCRIPTION:The spirit of Christmas and cricket is coming to Adelaide across four epic summer days. \nSanta’s Sleigh. Live music. Friends laughing. Cricket in full swing at Adelaide Oval. \nFrom 17 December 2025\, the joy of Christmas meets world-class cricket as Australia hosts England in the Ashes Christmas Test. \nLocated in Pennington Gardens\, just outside the Eastern Gates of Adelaide Oval\, this Christmas cricket festival is your off-field playground\, packed with family-friendly entertainment\, interactive activities and the unbeatable atmosphere of the Ashes Test in Adelaide. \nWhat to Expect \n\nInteractive Cricket Zones – Get hands-on in skills challenges and fan experiences for all ages with iconic spaces that we all love to enjoy in summer\nLive Screens – Don’t miss a moment of the action with live screens on display across the summer festival\nLive Entertainment & Music – Soak up summer sounds from local DJs\nFood Trucks & Local Flavours – Taste your way through Adelaide’s best bites\nFamily-Friendly Activities – Games\, giveaways and fun for the whole crew\nA True Summer Tradition – Celebrate everything we love about cricket and summer in one buzzing space\n\nThe festival hours will run in line with the Test innings. Come down and celebrate Christmas at the cricket! \nWHERE: Pennington Gardens \nWHEN: 17 – 21 December \nmore info here \n 
URL:https://kidsinadelaide.com.au/event/south-australia-cricket-christmas-test-festival/
LOCATION:Pennington Gardens\, Adelaide Oval\, Sir Edwin Smith Ave\, North Adelaide\, SA\, 5006\, Australia
CATEGORIES:Christmas,Family,Free,Sport
ATTACH;FMTTYPE=image/jpeg:https://kidsinadelaide.com.au/wp-content/uploads/2025/12/Cricket-Christmas-Test.jpg
GEO:-34.913148;138.6005057
X-APPLE-STRUCTURED-LOCATION;VALUE=URI;X-ADDRESS=Pennington Gardens Adelaide Oval Sir Edwin Smith Ave North Adelaide SA 5006 Australia;X-APPLE-RADIUS=500;X-TITLE=Sir Edwin Smith Ave:geo:138.6005057,-34.913148
END:VEVENT
END:VCALENDAR