BEGIN:VCALENDAR
VERSION:2.0
PRODID:-//Adelaide for Kids – The Ultimate Family Guide | Kids in Adelaide - ECPv6.15.20//NONSGML v1.0//EN
CALSCALE:GREGORIAN
METHOD:PUBLISH
X-ORIGINAL-URL:https://kidsinadelaide.com.au
X-WR-CALDESC:Events for Adelaide for Kids – The Ultimate Family Guide | Kids in Adelaide
REFRESH-INTERVAL;VALUE=DURATION:PT1H
X-Robots-Tag:noindex
X-PUBLISHED-TTL:PT1H
BEGIN:VTIMEZONE
TZID:Australia/Adelaide
BEGIN:STANDARD
TZOFFSETFROM:+1030
TZOFFSETTO:+0930
TZNAME:ACST
DTSTART:20240406T163000
END:STANDARD
BEGIN:DAYLIGHT
TZOFFSETFROM:+0930
TZOFFSETTO:+1030
TZNAME:ACDT
DTSTART:20241005T163000
END:DAYLIGHT
BEGIN:STANDARD
TZOFFSETFROM:+1030
TZOFFSETTO:+0930
TZNAME:ACST
DTSTART:20250405T163000
END:STANDARD
BEGIN:DAYLIGHT
TZOFFSETFROM:+0930
TZOFFSETTO:+1030
TZNAME:ACDT
DTSTART:20251004T163000
END:DAYLIGHT
BEGIN:STANDARD
TZOFFSETFROM:+1030
TZOFFSETTO:+0930
TZNAME:ACST
DTSTART:20260404T163000
END:STANDARD
BEGIN:DAYLIGHT
TZOFFSETFROM:+0930
TZOFFSETTO:+1030
TZNAME:ACDT
DTSTART:20261003T163000
END:DAYLIGHT
END:VTIMEZONE
BEGIN:VEVENT
DTSTART;TZID=Australia/Adelaide:20251026T100000
DTEND;TZID=Australia/Adelaide:20251026T150000
DTSTAMP:20260422T200638
CREATED:20251016T004109Z
LAST-MODIFIED:20251016T004109Z
UID:10006191-1761472800-1761490800@kidsinadelaide.com.au
SUMMARY:Spooky Sunday Funday Markets
DESCRIPTION:Have some spooky fun and get into the Halloween spirit by wearing some family-friendly costumes October 26 for the Sunday Funday Markets Halloween Edition from 10 AM to 3 PM at the Tonsley Innovation District. 👻🎃💀
URL:https://kidsinadelaide.com.au/event/spooky-sunday-funday-markets/
LOCATION:Tonsley Innovation District\, 6 MAB Eastern Promenade\, Clovelly Park\, SA\, 5042\, Australia
CATEGORIES:Family Friendly Halloween Events in Adelaide,Market
ATTACH;FMTTYPE=image/jpeg:https://kidsinadelaide.com.au/wp-content/uploads/2025/10/Halloween-Sunday-Funday-Markets.jpg
END:VEVENT
END:VCALENDAR