BEGIN:VCALENDAR
VERSION:2.0
PRODID:-//Adelaide for Kids – The Ultimate Family Guide | Kids in Adelaide - ECPv6.15.20//NONSGML v1.0//EN
CALSCALE:GREGORIAN
METHOD:PUBLISH
X-ORIGINAL-URL:https://kidsinadelaide.com.au
X-WR-CALDESC:Events for Adelaide for Kids – The Ultimate Family Guide | Kids in Adelaide
REFRESH-INTERVAL;VALUE=DURATION:PT1H
X-Robots-Tag:noindex
X-PUBLISHED-TTL:PT1H
BEGIN:VTIMEZONE
TZID:Australia/Adelaide
BEGIN:STANDARD
TZOFFSETFROM:+1030
TZOFFSETTO:+0930
TZNAME:ACST
DTSTART:20220402T163000
END:STANDARD
BEGIN:DAYLIGHT
TZOFFSETFROM:+0930
TZOFFSETTO:+1030
TZNAME:ACDT
DTSTART:20221001T163000
END:DAYLIGHT
BEGIN:STANDARD
TZOFFSETFROM:+1030
TZOFFSETTO:+0930
TZNAME:ACST
DTSTART:20230401T163000
END:STANDARD
BEGIN:DAYLIGHT
TZOFFSETFROM:+0930
TZOFFSETTO:+1030
TZNAME:ACDT
DTSTART:20230930T163000
END:DAYLIGHT
BEGIN:STANDARD
TZOFFSETFROM:+1030
TZOFFSETTO:+0930
TZNAME:ACST
DTSTART:20240406T163000
END:STANDARD
BEGIN:DAYLIGHT
TZOFFSETFROM:+0930
TZOFFSETTO:+1030
TZNAME:ACDT
DTSTART:20241005T163000
END:DAYLIGHT
BEGIN:STANDARD
TZOFFSETFROM:+1030
TZOFFSETTO:+0930
TZNAME:ACST
DTSTART:20250405T163000
END:STANDARD
BEGIN:DAYLIGHT
TZOFFSETFROM:+0930
TZOFFSETTO:+1030
TZNAME:ACDT
DTSTART:20251004T163000
END:DAYLIGHT
BEGIN:STANDARD
TZOFFSETFROM:+1030
TZOFFSETTO:+0930
TZNAME:ACST
DTSTART:20260404T163000
END:STANDARD
BEGIN:DAYLIGHT
TZOFFSETFROM:+0930
TZOFFSETTO:+1030
TZNAME:ACDT
DTSTART:20261003T163000
END:DAYLIGHT
BEGIN:STANDARD
TZOFFSETFROM:+1030
TZOFFSETTO:+0930
TZNAME:ACST
DTSTART:20270403T163000
END:STANDARD
BEGIN:DAYLIGHT
TZOFFSETFROM:+0930
TZOFFSETTO:+1030
TZNAME:ACDT
DTSTART:20271002T163000
END:DAYLIGHT
END:VTIMEZONE
BEGIN:VEVENT
DTSTART;VALUE=DATE:20260120
DTEND;VALUE=DATE:20260128
DTSTAMP:20260423T230124
CREATED:20260120T011015Z
LAST-MODIFIED:20260120T011015Z
UID:10008476-1768867200-1769558399@kidsinadelaide.com.au
SUMMARY:PYO Sunflower at Atkins Farm
DESCRIPTION:Pick your own sunflowers at Atkins Farm. \nEnjoy a bright and cheerful visit to a sunflower field with day\, afternoon and golden hour sessions available. This is a chance to wander\, pick your own blooms\, and take home a little piece of sunshine. \nPlease bring your own bucket and something to cut your flowers with. \nWHERE: Atkins Farm\, Meadows \nWHEN: 20 – 27 January \nTickets include: \nAdult: 5 sunflower stems\nChild (5–17 yrs): 1 sunflower stem (children under 5 do not require a ticket) \nBook your tickets here
URL:https://kidsinadelaide.com.au/event/pyo-sunflower-at-atkins-farm/
LOCATION:Atkins Farm\, 940 Battunga Road\, Meadows\, SA\, 5201\, Australia
CATEGORIES:Family,Featured
ATTACH;FMTTYPE=image/jpeg:https://kidsinadelaide.com.au/wp-content/uploads/2026/01/Atkins-Farm.jpg
END:VEVENT
BEGIN:VEVENT
DTSTART;VALUE=DATE:20230217
DTEND;VALUE=DATE:20230227
DTSTAMP:20260423T230124
CREATED:20230131T021112Z
LAST-MODIFIED:20230215T234504Z
UID:10004703-1676592000-1677455999@kidsinadelaide.com.au
SUMMARY:Atkins Farm PYO Sunflower
DESCRIPTION:Pick your own Sunflowers at Atkins Farm in the beautiful Adelaide hills.  \nEach picking session will be 30 minutes.  \nWHERE: Atkins Farm \nWHEN: 17 – 26 February  \nTIME: Day and afternoon;/ twilight sessions available  \nCOST: $24 – $29 \nBook here
URL:https://kidsinadelaide.com.au/event/atkins-farm-pyo-sunflower/
LOCATION:Atkins Farm\, 940 Battunga Road\, Meadows\, SA\, 5201\, Australia
CATEGORIES:Family
ATTACH;FMTTYPE=image/jpeg:https://kidsinadelaide.com.au/wp-content/uploads/2023/01/Atkins-Farm.jpeg
END:VEVENT
END:VCALENDAR