BEGIN:VCALENDAR
VERSION:2.0
PRODID:-//Adelaide for Kids – The Ultimate Family Guide | Kids in Adelaide - ECPv6.15.20//NONSGML v1.0//EN
CALSCALE:GREGORIAN
METHOD:PUBLISH
X-WR-CALNAME:Adelaide for Kids – The Ultimate Family Guide | Kids in Adelaide
X-ORIGINAL-URL:https://kidsinadelaide.com.au
X-WR-CALDESC:Events for Adelaide for Kids – The Ultimate Family Guide | Kids in Adelaide
REFRESH-INTERVAL;VALUE=DURATION:PT1H
X-Robots-Tag:noindex
X-PUBLISHED-TTL:PT1H
BEGIN:VTIMEZONE
TZID:Australia/Adelaide
BEGIN:STANDARD
TZOFFSETFROM:+1030
TZOFFSETTO:+0930
TZNAME:ACST
DTSTART:20250405T163000
END:STANDARD
BEGIN:DAYLIGHT
TZOFFSETFROM:+0930
TZOFFSETTO:+1030
TZNAME:ACDT
DTSTART:20251004T163000
END:DAYLIGHT
BEGIN:STANDARD
TZOFFSETFROM:+1030
TZOFFSETTO:+0930
TZNAME:ACST
DTSTART:20260404T163000
END:STANDARD
BEGIN:DAYLIGHT
TZOFFSETFROM:+0930
TZOFFSETTO:+1030
TZNAME:ACDT
DTSTART:20261003T163000
END:DAYLIGHT
BEGIN:STANDARD
TZOFFSETFROM:+1030
TZOFFSETTO:+0930
TZNAME:ACST
DTSTART:20270403T163000
END:STANDARD
BEGIN:DAYLIGHT
TZOFFSETFROM:+0930
TZOFFSETTO:+1030
TZNAME:ACDT
DTSTART:20271002T163000
END:DAYLIGHT
END:VTIMEZONE
BEGIN:VEVENT
DTSTART;TZID=Australia/Adelaide:20260126T113000
DTEND;TZID=Australia/Adelaide:20260126T163000
DTSTAMP:20260421T212251
CREATED:20260120T000603Z
LAST-MODIFIED:20260120T000603Z
UID:10008474-1769427000-1769445000@kidsinadelaide.com.au
SUMMARY:Wallis Entertainment Family Fun Day
DESCRIPTION:Wallis Entertainment Family Fun Day – Australia Day 2026 \nCelebrate Australia Day with a fun-filled family outing at Auchendarroch House. This much-loved community event returns with FREE activities for all ages\, starting from 11:30am. \nFamilies can enjoy: \n\nCircus entertainment\nPetting zoo\nGiant lawn games\nFree sausage sizzle\nPlus more free activities throughout the day\n\nProudly supported through the Event Support Program\, the Wallis Entertainment Family Fun Day is all about bringing the community together for a relaxed and joyful day of fun. \nWHERE: Auchendarroch House \nWHEN: Monday 26 January \nTIME: starts from 11:30am
URL:https://kidsinadelaide.com.au/event/wallis-entertainment-family-fun-day/
LOCATION:Auchendarroch House\, 17 Adelaide Rd\, Mount Barker\, SA\, 5251\, Australia
CATEGORIES:Family,Free
ATTACH;FMTTYPE=image/jpeg:https://kidsinadelaide.com.au/wp-content/uploads/2026/01/Wallis-Family-Fun-Day.jpg
END:VEVENT
END:VCALENDAR