BEGIN:VCALENDAR
VERSION:2.0
PRODID:-//Adelaide for Kids – The Ultimate Family Guide | Kids in Adelaide - ECPv6.15.20//NONSGML v1.0//EN
CALSCALE:GREGORIAN
METHOD:PUBLISH
X-ORIGINAL-URL:https://kidsinadelaide.com.au
X-WR-CALDESC:Events for Adelaide for Kids – The Ultimate Family Guide | Kids in Adelaide
REFRESH-INTERVAL;VALUE=DURATION:PT1H
X-Robots-Tag:noindex
X-PUBLISHED-TTL:PT1H
BEGIN:VTIMEZONE
TZID:UTC
BEGIN:STANDARD
TZOFFSETFROM:+0000
TZOFFSETTO:+0000
TZNAME:UTC
DTSTART:20240101T000000
END:STANDARD
END:VTIMEZONE
BEGIN:VEVENT
DTSTART;TZID=UTC:20251206T163000
DTEND;TZID=UTC:20251206T213000
DTSTAMP:20260422T160343
CREATED:20220822T045550Z
LAST-MODIFIED:20251127T082802Z
UID:10004434-1765038600-1765056600@kidsinadelaide.com.au
SUMMARY:Salisbury Community Christmas Carols
DESCRIPTION:Salisbury Community Christmas Carols returns to Carisbrooke Park this December. \nEnjoy free live entertainment from the Royal Australian Navy Band\, African Soul\, the Australian Military Wives Choir\, I-CASPA and Pulse Band\, with special performances for kids by Boomstars and Boomstars\, plus fun Christmas craft activities to spark their creativity. \nTuck into tasty food and drinks from local favourites including Humpty Dumplings\, the Yiros Hub\, Rotary BBQ\, S’s Deli\, Crepe Bar and Big Softy’s Ice Cream\, or bring your own picnic to enjoy under the stars. \nFinish the night with a spectacular fireworks display lighting up the sky at 9pm! \nWHERE: Carisbrooke Park \nWHEN: Saturday 6th December \nTIME: 4:30 pm – 9:15pm
URL:https://kidsinadelaide.com.au/event/salisbury-community-christmas-carols/
LOCATION:Carisbrooke Park\, Main North Road\, Salisbury Park\, SA\, 5109\, Australia
CATEGORIES:Christmas,Christmas Carols,Family,Free
ATTACH;FMTTYPE=image/jpeg:https://kidsinadelaide.com.au/wp-content/uploads/2022/08/salisbury-christmas-carols-1.jpg
END:VEVENT
END:VCALENDAR