BEGIN:VCALENDAR
VERSION:2.0
PRODID:-//Adelaide for Kids – The Ultimate Family Guide | Kids in Adelaide - ECPv6.15.20//NONSGML v1.0//EN
CALSCALE:GREGORIAN
METHOD:PUBLISH
X-ORIGINAL-URL:https://kidsinadelaide.com.au
X-WR-CALDESC:Events for Adelaide for Kids – The Ultimate Family Guide | Kids in Adelaide
REFRESH-INTERVAL;VALUE=DURATION:PT1H
X-Robots-Tag:noindex
X-PUBLISHED-TTL:PT1H
BEGIN:VTIMEZONE
TZID:Australia/Adelaide
BEGIN:STANDARD
TZOFFSETFROM:+1030
TZOFFSETTO:+0930
TZNAME:ACST
DTSTART:20230401T163000
END:STANDARD
BEGIN:DAYLIGHT
TZOFFSETFROM:+0930
TZOFFSETTO:+1030
TZNAME:ACDT
DTSTART:20230930T163000
END:DAYLIGHT
BEGIN:STANDARD
TZOFFSETFROM:+1030
TZOFFSETTO:+0930
TZNAME:ACST
DTSTART:20240406T163000
END:STANDARD
BEGIN:DAYLIGHT
TZOFFSETFROM:+0930
TZOFFSETTO:+1030
TZNAME:ACDT
DTSTART:20241005T163000
END:DAYLIGHT
BEGIN:STANDARD
TZOFFSETFROM:+1030
TZOFFSETTO:+0930
TZNAME:ACST
DTSTART:20250405T163000
END:STANDARD
BEGIN:DAYLIGHT
TZOFFSETFROM:+0930
TZOFFSETTO:+1030
TZNAME:ACDT
DTSTART:20251004T163000
END:DAYLIGHT
END:VTIMEZONE
BEGIN:VEVENT
DTSTART;TZID=Australia/Adelaide:20240310T120000
DTEND;TZID=Australia/Adelaide:20240310T170000
DTSTAMP:20260421T202539
CREATED:20240307T035812Z
LAST-MODIFIED:20240307T035952Z
UID:10005077-1710072000-1710090000@kidsinadelaide.com.au
SUMMARY:Diamond Burger Turns One
DESCRIPTION:Diamond Burger are turning ONE!!  and to celebrate they’re throwing a heck of a burger shop party\, including the launch of their LIQUOR LICENCE!!\n\n When: This Sunday (10/3) from 12PM till 5PM\n Where: Diamond Burger 3/563 Portrush Rd\, Glenunga (2 mins from Burnside Village)\n What’s on offer: $1 wings\, $5 beers\, $15 burgers – all day long.\n\nAs well as the bargains that’ll be going all day long we’re running an INSTANT REGRET SPEED EATING COMP with a HUGE $300 tattoo voucher with www_inks at EazyInk  deets below \nINSTANT REGRET SPEED EATING COMP rules and details:\n– comp will run all day long. Come and compete whenever you want.\n– $20 entry\n– need to sign a spice waiver\n– gloves provided\n– the three quickest times will win a prize\n– timer starts the moment you take your first bite of the Instant Regret Chicken Sammich. Once burger is eaten you must wait 10 minutes without a drink\, and then you must hit a shot on a mini hoop. Timer stops once you hit that shot and then you’re allowed a glass of milk.\n\nFIRST PRIZE: $300 tattoo voucher with www_inks\nSECOND PRIZE: $50 Diamond Burger Voucher\nTHIRD PRIZE: Pot of Instant Regret sauce\n\nClick here to find out more about Diamond Burger from our recent visit
URL:https://kidsinadelaide.com.au/event/diamond-burger-turns-one/
LOCATION:Diamond Burger\, 3/563 Portrush Rd\,\, Glenunga\, 5064
ATTACH;FMTTYPE=image/jpeg:https://kidsinadelaide.com.au/wp-content/uploads/2024/03/429561531_17933543153810291_4310291262845205071_n.jpg
END:VEVENT
END:VCALENDAR