BEGIN:VCALENDAR
VERSION:2.0
PRODID:-//Adelaide for Kids – The Ultimate Family Guide | Kids in Adelaide - ECPv6.15.20//NONSGML v1.0//EN
CALSCALE:GREGORIAN
METHOD:PUBLISH
X-ORIGINAL-URL:https://kidsinadelaide.com.au
X-WR-CALDESC:Events for Adelaide for Kids – The Ultimate Family Guide | Kids in Adelaide
REFRESH-INTERVAL;VALUE=DURATION:PT1H
X-Robots-Tag:noindex
X-PUBLISHED-TTL:PT1H
BEGIN:VTIMEZONE
TZID:Australia/Adelaide
BEGIN:STANDARD
TZOFFSETFROM:+1030
TZOFFSETTO:+0930
TZNAME:ACST
DTSTART:20240406T163000
END:STANDARD
BEGIN:DAYLIGHT
TZOFFSETFROM:+0930
TZOFFSETTO:+1030
TZNAME:ACDT
DTSTART:20241005T163000
END:DAYLIGHT
BEGIN:STANDARD
TZOFFSETFROM:+1030
TZOFFSETTO:+0930
TZNAME:ACST
DTSTART:20250405T163000
END:STANDARD
BEGIN:DAYLIGHT
TZOFFSETFROM:+0930
TZOFFSETTO:+1030
TZNAME:ACDT
DTSTART:20251004T163000
END:DAYLIGHT
BEGIN:STANDARD
TZOFFSETFROM:+1030
TZOFFSETTO:+0930
TZNAME:ACST
DTSTART:20260404T163000
END:STANDARD
BEGIN:DAYLIGHT
TZOFFSETFROM:+0930
TZOFFSETTO:+1030
TZNAME:ACDT
DTSTART:20261003T163000
END:DAYLIGHT
END:VTIMEZONE
BEGIN:VTIMEZONE
TZID:UTC
BEGIN:STANDARD
TZOFFSETFROM:+0000
TZOFFSETTO:+0000
TZNAME:UTC
DTSTART:20210101T000000
END:STANDARD
END:VTIMEZONE
BEGIN:VEVENT
DTSTART;TZID=Australia/Adelaide:20251115T120000
DTEND;TZID=Australia/Adelaide:20251115T160000
DTSTAMP:20260422T160204
CREATED:20251022T060159Z
LAST-MODIFIED:20251022T060159Z
UID:10006203-1763208000-1763222400@kidsinadelaide.com.au
SUMMARY:Pen & Print - a Gathering of Authors and Wordsmiths
DESCRIPTION:Pen & Print is a brand new Event\, showcasing Authors and Writers from South Australia and beyond. \nHosted in the beautiful historic Town of Gawler. \nYou’ll have access via Public Transport (and a very short walk)\, the Northern Expressway\, and\, it’s just a hop\, skip and jump from the delightful Barossa Valley. \nA Family friendly environment\, including: \n– Book Stalls of all Genres\n– Meet the Authors opportunities\n– Book and Poetry Showcase\n– A Book Publishing Workshop for budding Authors\n– Curated Market Stalls\n– Food and Drink Pop Ups\n– Live Acoustic
URL:https://kidsinadelaide.com.au/event/pen-print-a-gathering-of-authors-and-wordsmiths/
LOCATION:Evanston Gardens Library\, 65 Angle Vale rd\, Evanston Gardens\, SA\, 5118\, Australia
CATEGORIES:Family,Free,Indoor,Library,Market,Outdoor,Youth
ATTACH;FMTTYPE=image/jpeg:https://kidsinadelaide.com.au/wp-content/uploads/2025/10/Poster.jpg
ORGANIZER;CN="Hoot &amp%3B Howl":MAILTO:Hello@marketinthegardens.com.au
END:VEVENT
BEGIN:VEVENT
DTSTART;TZID=UTC:20221216T093000
DTEND;TZID=UTC:20221216T103000
DTSTAMP:20260422T160204
CREATED:20221109T222756Z
LAST-MODIFIED:20221109T222756Z
UID:10004628-1671183000-1671186600@kidsinadelaide.com.au
SUMMARY:Story time Christmas Party
DESCRIPTION:Ho Ho Ho! It’s Christmas time! \nCome along to our final Story time for 2022. Help us decorate the tree\, ring the bells and spread the cheer. \nJoin us for a special Christmas themed story time full of songs\, stories\, craft\, activities\, nibbles and snacks. \nAimed at preschoolers\, their siblings and carers. \nTickets not essential but requested for catering purposes. \nWHERE: Evanston Gardens Library \nWHEN: Friday 16 December \nTIME: 9:30 am \nCOST: Free \nBook your spot here \n 
URL:https://kidsinadelaide.com.au/event/story-time-christmas-party/
LOCATION:Evanston Gardens Library\, 65 Angle Vale rd\, Evanston Gardens\, SA\, 5118\, Australia
CATEGORIES:Children,Christmas,Free
ATTACH;FMTTYPE=image/jpeg:https://kidsinadelaide.com.au/wp-content/uploads/2022/11/Story-Time-Christmas-Party.jpeg
END:VEVENT
END:VCALENDAR