BEGIN:VCALENDAR
VERSION:2.0
PRODID:-//Adelaide for Kids – The Ultimate Family Guide | Kids in Adelaide - ECPv6.15.20//NONSGML v1.0//EN
CALSCALE:GREGORIAN
METHOD:PUBLISH
X-ORIGINAL-URL:https://kidsinadelaide.com.au
X-WR-CALDESC:Events for Adelaide for Kids – The Ultimate Family Guide | Kids in Adelaide
REFRESH-INTERVAL;VALUE=DURATION:PT1H
X-Robots-Tag:noindex
X-PUBLISHED-TTL:PT1H
BEGIN:VTIMEZONE
TZID:Australia/Adelaide
BEGIN:STANDARD
TZOFFSETFROM:+1030
TZOFFSETTO:+0930
TZNAME:ACST
DTSTART:20240406T163000
END:STANDARD
BEGIN:DAYLIGHT
TZOFFSETFROM:+0930
TZOFFSETTO:+1030
TZNAME:ACDT
DTSTART:20241005T163000
END:DAYLIGHT
BEGIN:STANDARD
TZOFFSETFROM:+1030
TZOFFSETTO:+0930
TZNAME:ACST
DTSTART:20250405T163000
END:STANDARD
BEGIN:DAYLIGHT
TZOFFSETFROM:+0930
TZOFFSETTO:+1030
TZNAME:ACDT
DTSTART:20251004T163000
END:DAYLIGHT
BEGIN:STANDARD
TZOFFSETFROM:+1030
TZOFFSETTO:+0930
TZNAME:ACST
DTSTART:20260404T163000
END:STANDARD
BEGIN:DAYLIGHT
TZOFFSETFROM:+0930
TZOFFSETTO:+1030
TZNAME:ACDT
DTSTART:20261003T163000
END:DAYLIGHT
END:VTIMEZONE
BEGIN:VEVENT
DTSTART;TZID=Australia/Adelaide:20251213T110000
DTEND;TZID=Australia/Adelaide:20251213T160000
DTSTAMP:20260424T211344
CREATED:20251122T050240Z
LAST-MODIFIED:20251122T050302Z
UID:10006290-1765623600-1765641600@kidsinadelaide.com.au
SUMMARY:Cultured. 2025 - Free Family Fun Day
DESCRIPTION:Cultured. 2025 is a unique\, multicultural event celebrating the lives of those of a multicultural background in South Australia. Come along and be immersed in a range of areas including food\, First Nations\, performances\, live music\, dance\, workshops\, cooking classes and much more. \nAll part of specially curated festival program to take in- all free during the day – as part of a family fun day! \nHeld at Four Oaks Farm\, Littlehampton in the Adelaide Hills\, take in the peace and tranquillity in a country\, farm life environment. \nYou can also see the farm animals on site\, sit under the shady gum trees with something to eat from all over the globe and rest on the laws at the farm taking in the event vibe and coming home with a feeling of greatness\, awareness and better understanding.
URL:https://kidsinadelaide.com.au/event/cultured-2025-free-family-fun-day/
LOCATION:Four Oaks Farm\, 23 Downing Road\, Littlehampton\, South Australia\, Australia
CATEGORIES:Community,Family,Festival,Free
ATTACH;FMTTYPE=image/jpeg:https://kidsinadelaide.com.au/wp-content/uploads/2025/11/Musicians.jpg
ORGANIZER;CN="Circle of Friends Australia Incorporated":MAILTO:nathan.rogers79@bigpond.com
END:VEVENT
END:VCALENDAR