BEGIN:VCALENDAR
VERSION:2.0
PRODID:-//Adelaide for Kids – The Ultimate Family Guide | Kids in Adelaide - ECPv6.15.20//NONSGML v1.0//EN
CALSCALE:GREGORIAN
METHOD:PUBLISH
X-ORIGINAL-URL:https://kidsinadelaide.com.au
X-WR-CALDESC:Events for Adelaide for Kids – The Ultimate Family Guide | Kids in Adelaide
REFRESH-INTERVAL;VALUE=DURATION:PT1H
X-Robots-Tag:noindex
X-PUBLISHED-TTL:PT1H
BEGIN:VTIMEZONE
TZID:Australia/Adelaide
BEGIN:STANDARD
TZOFFSETFROM:+1030
TZOFFSETTO:+0930
TZNAME:ACST
DTSTART:20250405T163000
END:STANDARD
BEGIN:DAYLIGHT
TZOFFSETFROM:+0930
TZOFFSETTO:+1030
TZNAME:ACDT
DTSTART:20251004T163000
END:DAYLIGHT
BEGIN:STANDARD
TZOFFSETFROM:+1030
TZOFFSETTO:+0930
TZNAME:ACST
DTSTART:20260404T163000
END:STANDARD
BEGIN:DAYLIGHT
TZOFFSETFROM:+0930
TZOFFSETTO:+1030
TZNAME:ACDT
DTSTART:20261003T163000
END:DAYLIGHT
BEGIN:STANDARD
TZOFFSETFROM:+1030
TZOFFSETTO:+0930
TZNAME:ACST
DTSTART:20270403T163000
END:STANDARD
BEGIN:DAYLIGHT
TZOFFSETFROM:+0930
TZOFFSETTO:+1030
TZNAME:ACDT
DTSTART:20271002T163000
END:DAYLIGHT
END:VTIMEZONE
BEGIN:VEVENT
DTSTART;TZID=Australia/Adelaide:20260410T180000
DTEND;TZID=Australia/Adelaide:20260410T213000
DTSTAMP:20260420T015544
CREATED:20260227T051405Z
LAST-MODIFIED:20260302T094739Z
UID:10010609-1775844000-1775856600@kidsinadelaide.com.au
SUMMARY:City of Burnside: Outdoor Movie Night – Paddington in Peru
DESCRIPTION:The countdown is on for the City of Burnside’s 2026 Outdoor Movie Night! 🎬✨ \nThis year\, the City of Burnside is screening Paddington in Peru – a heartwarming adventure the whole family will love 🐻💛\nBring your favourite teddy bear\, a picnic rug and some comfy chairs\, and settle in for a fantastic evening under the stars.\nEnjoy: \n🍔 Delicious food trucks\n🎨 Face painting\n🧸 Sensory tent\n🌙 A magical outdoor cinema experience \n📍 Hanson Reserve\, Tusmore\n📅 Friday 10 April 2026\n⏰ From 6pm (food trucks & face painting)\n🎥 Movie starts approx. 6:30pm \nMore info: https://www.burnside.sa.gov.au/Whats-On/Public-Events/Outdoor-Movie-Night-Paddington-in-Peru
URL:https://kidsinadelaide.com.au/event/city-of-burnside-outdoor-movie-night-paddington-in-peru/
LOCATION:Hanson Reserve\, Tusmore Park\, 4 Kennaway Street\, Tusmore\, SA\, 5065\, Australia
CATEGORIES:April School Holidays,Easter,Family,Free,Outdoor Cinema,School Holidays,Youth
ATTACH;FMTTYPE=image/jpeg:https://kidsinadelaide.com.au/wp-content/uploads/2026/02/Paddington-in-Peru-Burnside.jpg
GEO:-34.9328365;138.6476992
X-APPLE-STRUCTURED-LOCATION;VALUE=URI;X-ADDRESS=Hanson Reserve Tusmore Park 4 Kennaway Street Tusmore SA 5065 Australia;X-APPLE-RADIUS=500;X-TITLE=4 Kennaway Street:geo:138.6476992,-34.9328365
END:VEVENT
BEGIN:VEVENT
DTSTART;TZID=Australia/Adelaide:20260306T173000
DTEND;TZID=Australia/Adelaide:20260306T193000
DTSTAMP:20260420T015544
CREATED:20260216T083813Z
LAST-MODIFIED:20260302T072014Z
UID:10010334-1772818200-1772825400@kidsinadelaide.com.au
SUMMARY:Holi in the Park: Family Celebration
DESCRIPTION:A celebration of the Hindu festival of Colours\, Love and Spring. \nJoin us for an afternoon of colour\, games and food to celebrate the Indian Festival of Holi. \nThis is a family-friendly event for all ages\, so bring your loved ones and enjoy the fun together. \n$5 entry for access to the colour run/play area.\nWear old\, white clothes\, as getting colourful and messy is all part of the fun. Colour activities include games\, an obstable course and an all out colour war. \nFood is available to purchase on the day. \nHanson Reserve is located behind the Glenside Lions Club Bookmart at Tusmore Park. \nWHERE: Hanson Reserve\, Tusmore Park \nWHEN: Friday 6 March \nTIME: 5:30 pm – 7:30 pm \nCOST: $5 \nRegister here
URL:https://kidsinadelaide.com.au/event/holi-in-the-park-family-celebration/
LOCATION:Hanson Reserve\, Tusmore Park\, 4 Kennaway Street\, Tusmore\, SA\, 5065\, Australia
CATEGORIES:Family,Featured,Free,March Long Weekend in Adelaide
ATTACH;FMTTYPE=image/jpeg:https://kidsinadelaide.com.au/wp-content/uploads/2026/02/Holi-Festival-Promo-Image.jpg
GEO:-34.9328365;138.6476992
X-APPLE-STRUCTURED-LOCATION;VALUE=URI;X-ADDRESS=Hanson Reserve Tusmore Park 4 Kennaway Street Tusmore SA 5065 Australia;X-APPLE-RADIUS=500;X-TITLE=4 Kennaway Street:geo:138.6476992,-34.9328365
END:VEVENT
END:VCALENDAR