BEGIN:VCALENDAR
VERSION:2.0
PRODID:-//Adelaide for Kids – The Ultimate Family Guide | Kids in Adelaide - ECPv6.15.20//NONSGML v1.0//EN
CALSCALE:GREGORIAN
METHOD:PUBLISH
X-ORIGINAL-URL:https://kidsinadelaide.com.au
X-WR-CALDESC:Events for Adelaide for Kids – The Ultimate Family Guide | Kids in Adelaide
REFRESH-INTERVAL;VALUE=DURATION:PT1H
X-Robots-Tag:noindex
X-PUBLISHED-TTL:PT1H
BEGIN:VTIMEZONE
TZID:Australia/Adelaide
BEGIN:STANDARD
TZOFFSETFROM:+1030
TZOFFSETTO:+0930
TZNAME:ACST
DTSTART:20240406T163000
END:STANDARD
BEGIN:DAYLIGHT
TZOFFSETFROM:+0930
TZOFFSETTO:+1030
TZNAME:ACDT
DTSTART:20241005T163000
END:DAYLIGHT
BEGIN:STANDARD
TZOFFSETFROM:+1030
TZOFFSETTO:+0930
TZNAME:ACST
DTSTART:20250405T163000
END:STANDARD
BEGIN:DAYLIGHT
TZOFFSETFROM:+0930
TZOFFSETTO:+1030
TZNAME:ACDT
DTSTART:20251004T163000
END:DAYLIGHT
BEGIN:STANDARD
TZOFFSETFROM:+1030
TZOFFSETTO:+0930
TZNAME:ACST
DTSTART:20260404T163000
END:STANDARD
BEGIN:DAYLIGHT
TZOFFSETFROM:+0930
TZOFFSETTO:+1030
TZNAME:ACDT
DTSTART:20261003T163000
END:DAYLIGHT
END:VTIMEZONE
BEGIN:VEVENT
DTSTART;TZID=Australia/Adelaide:20250503T120000
DTEND;TZID=Australia/Adelaide:20250503T160000
DTSTAMP:20260424T220940
CREATED:20230301T040806Z
LAST-MODIFIED:20250418T050152Z
UID:10004729-1746273600-1746288000@kidsinadelaide.com.au
SUMMARY:JamFactory Open Day
DESCRIPTION:JamFactory opens its doors for a fun\, free\, family-friendly Open Day! \nAn exciting opportunity to go behind the scenes of the Glass\, Ceramics\, Furniture and Jewellery/Metal Studios with guided tours\, demonstrations\, and workshops for kids and adults. \nTOURS \n\nEnjoy a guided tour of the studios\, galleries and shop.\n\nDEMONSTRATIONS \n\nExperience live Glass Blowing and discover Wheel Throwing and Wood Turning demonstrations by talented makers in the studios.\n\nHANDS ON WORKSHOPS* \n\nHave fun and create in the Ceramics\, Furniture and Jewellery/Metal Studios with free workshops for kids and adults.\nTry Ceramic Hand Building or Make a Wooden or Metal Keyring.\nPlus join the Wood Planing Competition in the Furniture Studio!\n\nWHERE: JamFactory \nWHEN: Saturday 3 May \nTIME: 12pm – 4pm \nCOST: Free \nRSVP here
URL:https://kidsinadelaide.com.au/event/jamfactory-open-day/
LOCATION:jam factory\, 19 Morphett Street\, Adelaide\, South Australia\, Australia
CATEGORIES:Free
ATTACH;FMTTYPE=image/jpeg:https://kidsinadelaide.com.au/wp-content/uploads/2023/03/jam-factory-open-day.jpg
END:VEVENT
END:VCALENDAR