BEGIN:VCALENDAR
VERSION:2.0
PRODID:-//Adelaide for Kids – The Ultimate Family Guide | Kids in Adelaide - ECPv6.15.20//NONSGML v1.0//EN
CALSCALE:GREGORIAN
METHOD:PUBLISH
X-WR-CALNAME:Adelaide for Kids – The Ultimate Family Guide | Kids in Adelaide
X-ORIGINAL-URL:https://kidsinadelaide.com.au
X-WR-CALDESC:Events for Adelaide for Kids – The Ultimate Family Guide | Kids in Adelaide
REFRESH-INTERVAL;VALUE=DURATION:PT1H
X-Robots-Tag:noindex
X-PUBLISHED-TTL:PT1H
BEGIN:VTIMEZONE
TZID:Australia/Adelaide
BEGIN:STANDARD
TZOFFSETFROM:+1030
TZOFFSETTO:+0930
TZNAME:ACST
DTSTART:20250405T163000
END:STANDARD
BEGIN:DAYLIGHT
TZOFFSETFROM:+0930
TZOFFSETTO:+1030
TZNAME:ACDT
DTSTART:20251004T163000
END:DAYLIGHT
BEGIN:STANDARD
TZOFFSETFROM:+1030
TZOFFSETTO:+0930
TZNAME:ACST
DTSTART:20260404T163000
END:STANDARD
BEGIN:DAYLIGHT
TZOFFSETFROM:+0930
TZOFFSETTO:+1030
TZNAME:ACDT
DTSTART:20261003T163000
END:DAYLIGHT
BEGIN:STANDARD
TZOFFSETFROM:+1030
TZOFFSETTO:+0930
TZNAME:ACST
DTSTART:20270403T163000
END:STANDARD
BEGIN:DAYLIGHT
TZOFFSETFROM:+0930
TZOFFSETTO:+1030
TZNAME:ACDT
DTSTART:20271002T163000
END:DAYLIGHT
END:VTIMEZONE
BEGIN:VEVENT
DTSTART;TZID=Australia/Adelaide:20260530T130000
DTEND;TZID=Australia/Adelaide:20260530T160000
DTSTAMP:20260423T213653
CREATED:20230516T101927Z
LAST-MODIFIED:20260414T034200Z
UID:10003899-1780146000-1780156800@kidsinadelaide.com.au
SUMMARY:Reconciliation at Warriparinga
DESCRIPTION:Reconciliation at Warriparinga is back for it’s 5th year! \nJoin Southern Cultural Immersion\, Green Adelaide\, and the City of Marion as we come together to celebrate Reconciliation Week at this FREE community event\, everyone is welcome! \nExperience an incredible day of culture\, connection and community with free cultural activities\, live entertainment\, delicious food\, refreshing drinks and so much more! \nWHERE: Living Kaurna Cultural Centre \nWHEN: Saturday 30 May \nTIME: 1 pm – 4 pm \nClick here for more info
URL:https://kidsinadelaide.com.au/event/reconciliation-at-warriparinga/
LOCATION:Living Kaurna Cultural Centre and Warriparinga Wetlands\, Warriparinga Drive\, (Off Sturt Road)\, Bedford Park\, 5042\, Australia
CATEGORIES:Free,reconcilliation-week
ATTACH;FMTTYPE=image/jpeg:https://kidsinadelaide.com.au/wp-content/uploads/2023/05/reconciliation.jpg
END:VEVENT
END:VCALENDAR