BEGIN:VCALENDAR
VERSION:2.0
PRODID:-//Adelaide for Kids – The Ultimate Family Guide | Kids in Adelaide - ECPv6.15.20//NONSGML v1.0//EN
CALSCALE:GREGORIAN
METHOD:PUBLISH
X-WR-CALNAME:Adelaide for Kids – The Ultimate Family Guide | Kids in Adelaide
X-ORIGINAL-URL:https://kidsinadelaide.com.au
X-WR-CALDESC:Events for Adelaide for Kids – The Ultimate Family Guide | Kids in Adelaide
REFRESH-INTERVAL;VALUE=DURATION:PT1H
X-Robots-Tag:noindex
X-PUBLISHED-TTL:PT1H
BEGIN:VTIMEZONE
TZID:UTC
BEGIN:STANDARD
TZOFFSETFROM:+0000
TZOFFSETTO:+0000
TZNAME:UTC
DTSTART:20220101T000000
END:STANDARD
END:VTIMEZONE
BEGIN:VEVENT
DTSTART;TZID=UTC:20230820T100000
DTEND;TZID=UTC:20230820T163000
DTSTAMP:20260420T014752
CREATED:20220624T022057Z
LAST-MODIFIED:20230730T075626Z
UID:10004324-1692525600-1692549000@kidsinadelaide.com.au
SUMMARY:Barossa Medieval Fair
DESCRIPTION:The Barossa Medieval is an annual Medieval festival that takes place in the beautiful Barossa Valley.  \nBoth family and dog friendly\, the Barossa Medieval Fair has an emphasis on taking patrons back to medieval times and enjoying the sights\, sounds and atmosphere. \nThis year they will be welcoming merchants from around Australia\, reenactment and living history\, as well as medieval combat\, archery and a range of other fun activities and entertainment for the whole family. \nSaturday 19 August 2023 – Sunday 20 August 2023 (UTC+09:30) \nWHERE: Lyndoch Village Green \nWHEN: Saturday 19 & Sunday 20 August \nTIME: \n\nSaturday 19th August – 10:00am – 4:30pm\nSaturday Night – Lord Lyndoch Medieval Feast\nSunday 20th August – 10:00am – 4:30pm\n\nCOST:  \n\nSingle adult ticket – $20\nFamily (2 adults\, 2 kids) – $45\nStudent & concession – $17\nUnder 16 – $12\nUnder 10 – free\nAdult 2 day ticket – $36\nConcession 2 day – $28\nFamily (2 adults\, 2 kids) 2 day pass – $69\nUnder 16 2 day pss – $20\nUnder 10 – free\n\nBook tickets here to avoid missing out \n \n\n 
URL:https://kidsinadelaide.com.au/event/barossa-medieval-fair/2023-08-20/
LOCATION:Lyndoch Village Green
CATEGORIES:Family,Featured,Festival,Outdoor
ATTACH;FMTTYPE=image/jpeg:https://kidsinadelaide.com.au/wp-content/uploads/2022/06/Barossa-Medieval-Fair.jpeg
END:VEVENT
END:VCALENDAR