BEGIN:VCALENDAR
VERSION:2.0
PRODID:-//Adelaide for Kids – The Ultimate Family Guide | Kids in Adelaide - ECPv6.15.20//NONSGML v1.0//EN
CALSCALE:GREGORIAN
METHOD:PUBLISH
X-WR-CALNAME:Adelaide for Kids – The Ultimate Family Guide | Kids in Adelaide
X-ORIGINAL-URL:https://kidsinadelaide.com.au
X-WR-CALDESC:Events for Adelaide for Kids – The Ultimate Family Guide | Kids in Adelaide
REFRESH-INTERVAL;VALUE=DURATION:PT1H
X-Robots-Tag:noindex
X-PUBLISHED-TTL:PT1H
BEGIN:VTIMEZONE
TZID:Australia/Adelaide
BEGIN:STANDARD
TZOFFSETFROM:+1030
TZOFFSETTO:+0930
TZNAME:ACST
DTSTART:20240406T163000
END:STANDARD
BEGIN:DAYLIGHT
TZOFFSETFROM:+0930
TZOFFSETTO:+1030
TZNAME:ACDT
DTSTART:20241005T163000
END:DAYLIGHT
BEGIN:STANDARD
TZOFFSETFROM:+1030
TZOFFSETTO:+0930
TZNAME:ACST
DTSTART:20250405T163000
END:STANDARD
BEGIN:DAYLIGHT
TZOFFSETFROM:+0930
TZOFFSETTO:+1030
TZNAME:ACDT
DTSTART:20251004T163000
END:DAYLIGHT
BEGIN:STANDARD
TZOFFSETFROM:+1030
TZOFFSETTO:+0930
TZNAME:ACST
DTSTART:20260404T163000
END:STANDARD
BEGIN:DAYLIGHT
TZOFFSETFROM:+0930
TZOFFSETTO:+1030
TZNAME:ACDT
DTSTART:20261003T163000
END:DAYLIGHT
END:VTIMEZONE
BEGIN:VEVENT
DTSTART;VALUE=DATE:20251231
DTEND;VALUE=DATE:20260101
DTSTAMP:20260422T124444
CREATED:20251203T043549Z
LAST-MODIFIED:20251216T224017Z
UID:10006325-1767139200-1767225599@kidsinadelaide.com.au
SUMMARY:Mannum New Years Eve Fireworks
DESCRIPTION:The Mannum Progress Association is thrilled to announce they are able to bring back the spectacular New Year’s Eve fireworks display! \nThe fireworks will be launched from the river near Mary Ann Reserve and can be seen from all around the area (weather permitting). \nJoin them to ring in the New Year with a bang – it’s a celebration you won’t want to miss!
URL:https://kidsinadelaide.com.au/event/mannum-new-years-eve-fireworks/
LOCATION:Mary Ann Reserve\, Mary Ann Reserve\, Mannum\, South Australia\, Australia
CATEGORIES:Family Friendly New Years Eve in Adelaide
ATTACH;FMTTYPE=image/webp:https://kidsinadelaide.com.au/wp-content/uploads/2025/12/mannum-fireworks.webp
GEO:-34.9152109;139.3120027
X-APPLE-STRUCTURED-LOCATION;VALUE=URI;X-ADDRESS=Mary Ann Reserve Mary Ann Reserve Mannum South Australia Australia;X-APPLE-RADIUS=500;X-TITLE=Mary Ann Reserve:geo:139.3120027,-34.9152109
END:VEVENT
END:VCALENDAR