BEGIN:VCALENDAR
VERSION:2.0
PRODID:-//Adelaide for Kids – The Ultimate Family Guide | Kids in Adelaide - ECPv6.15.20//NONSGML v1.0//EN
CALSCALE:GREGORIAN
METHOD:PUBLISH
X-ORIGINAL-URL:https://kidsinadelaide.com.au
X-WR-CALDESC:Events for Adelaide for Kids – The Ultimate Family Guide | Kids in Adelaide
REFRESH-INTERVAL;VALUE=DURATION:PT1H
X-Robots-Tag:noindex
X-PUBLISHED-TTL:PT1H
BEGIN:VTIMEZONE
TZID:Australia/Adelaide
BEGIN:STANDARD
TZOFFSETFROM:+1030
TZOFFSETTO:+0930
TZNAME:ACST
DTSTART:20250405T163000
END:STANDARD
BEGIN:DAYLIGHT
TZOFFSETFROM:+0930
TZOFFSETTO:+1030
TZNAME:ACDT
DTSTART:20251004T163000
END:DAYLIGHT
BEGIN:STANDARD
TZOFFSETFROM:+1030
TZOFFSETTO:+0930
TZNAME:ACST
DTSTART:20260404T163000
END:STANDARD
BEGIN:DAYLIGHT
TZOFFSETFROM:+0930
TZOFFSETTO:+1030
TZNAME:ACDT
DTSTART:20261003T163000
END:DAYLIGHT
BEGIN:STANDARD
TZOFFSETFROM:+1030
TZOFFSETTO:+0930
TZNAME:ACST
DTSTART:20270403T163000
END:STANDARD
BEGIN:DAYLIGHT
TZOFFSETFROM:+0930
TZOFFSETTO:+1030
TZNAME:ACDT
DTSTART:20271002T163000
END:DAYLIGHT
END:VTIMEZONE
BEGIN:VEVENT
DTSTART;TZID=Australia/Adelaide:20260308T090000
DTEND;TZID=Australia/Adelaide:20260308T140000
DTSTAMP:20260422T215120
CREATED:20251221T085633Z
LAST-MODIFIED:20260302T072112Z
UID:10007247-1772960400-1772978400@kidsinadelaide.com.au
SUMMARY:Waikerie Riverfront Fringe Market
DESCRIPTION:Bring the whole family to the Rotary River Fringe Market – a vibrant riverside event\, from 9am–2pm\, at Leonard Norman Drive! \nDiscover handmade crafts\, art\, jewellery\, plants\, clothes\, produce and unique gifts from talented local makers. \nKids will love the face painting\, games and interactive fun\, plus live entertainment for all ages. \nEnjoy delicious food\, coffee and drinks while soaking up the relaxed atmosphere beside the Murray. \nDon’t miss the Riverfront Car Boot & Collectables section – perfect for treasure hunters! \nWHERE: Parkland at The Waikerie Riverfront \nWHEN: Sun\, 08 Mar \nTIME: From 9am to 2pm \nCOST: Free entry
URL:https://kidsinadelaide.com.au/event/waikerie-riverfront-fringe-market/
LOCATION:Parkland at The Waikerie Riverfront\, Leonard Norman Dr\, Waikerie\, Meru\, SA\, 5331\, Australia
CATEGORIES:Adelaide Fringe,Adelaide Fringe for Free,Family,Free,March Long Weekend in Adelaide
ATTACH;FMTTYPE=image/jpeg:https://kidsinadelaide.com.au/wp-content/uploads/2025/12/Waikerie-riverfront-market-fringe.jpg
GEO:-34.1741846;139.9840201
X-APPLE-STRUCTURED-LOCATION;VALUE=URI;X-ADDRESS=Parkland at The Waikerie Riverfront Leonard Norman Dr Waikerie Meru SA 5331 Australia;X-APPLE-RADIUS=500;X-TITLE=Leonard Norman Dr:geo:139.9840201,-34.1741846
END:VEVENT
END:VCALENDAR