BEGIN:VCALENDAR
VERSION:2.0
PRODID:-//Adelaide for Kids – The Ultimate Family Guide | Kids in Adelaide - ECPv6.15.20//NONSGML v1.0//EN
CALSCALE:GREGORIAN
METHOD:PUBLISH
X-WR-CALNAME:Adelaide for Kids – The Ultimate Family Guide | Kids in Adelaide
X-ORIGINAL-URL:https://kidsinadelaide.com.au
X-WR-CALDESC:Events for Adelaide for Kids – The Ultimate Family Guide | Kids in Adelaide
REFRESH-INTERVAL;VALUE=DURATION:PT1H
X-Robots-Tag:noindex
X-PUBLISHED-TTL:PT1H
BEGIN:VTIMEZONE
TZID:Australia/Adelaide
BEGIN:STANDARD
TZOFFSETFROM:+1030
TZOFFSETTO:+0930
TZNAME:ACST
DTSTART:20240406T163000
END:STANDARD
BEGIN:DAYLIGHT
TZOFFSETFROM:+0930
TZOFFSETTO:+1030
TZNAME:ACDT
DTSTART:20241005T163000
END:DAYLIGHT
BEGIN:STANDARD
TZOFFSETFROM:+1030
TZOFFSETTO:+0930
TZNAME:ACST
DTSTART:20250405T163000
END:STANDARD
BEGIN:DAYLIGHT
TZOFFSETFROM:+0930
TZOFFSETTO:+1030
TZNAME:ACDT
DTSTART:20251004T163000
END:DAYLIGHT
BEGIN:STANDARD
TZOFFSETFROM:+1030
TZOFFSETTO:+0930
TZNAME:ACST
DTSTART:20260404T163000
END:STANDARD
BEGIN:DAYLIGHT
TZOFFSETFROM:+0930
TZOFFSETTO:+1030
TZNAME:ACDT
DTSTART:20261003T163000
END:DAYLIGHT
END:VTIMEZONE
BEGIN:VEVENT
DTSTART;VALUE=DATE:20251231
DTEND;VALUE=DATE:20260101
DTSTAMP:20260422T125233
CREATED:20251204T052755Z
LAST-MODIFIED:20251204T052755Z
UID:10006333-1767139200-1767225599@kidsinadelaide.com.au
SUMMARY:New Years Eve Fireworks Spectacular at Salisbury North Football Club
DESCRIPTION:Salisbury North Football Club and the City of Salisbury are once again throwing the community a New Years Eve fireworks spectacular\n\n2 fireworks display shows. 1st at 9:40pm for the kids\, 2nd at midnight for everyone else to close off 2025 and start 2026. what a night this will be.\n\nLive music inside on stage performed by Final Touch – Live Band from 8:30pm\n\n\n\nBigger & better the last years fireworks\, bigger rides.\n\n\n\nEntry to the Oval and rides are completely FREE.\n(Rides will operate from 5pm-9:40pm\, then a little after the kids fireworks.)
URL:https://kidsinadelaide.com.au/event/new-years-eve-fireworks-spectacular-at-salisbury-north-football-club/
LOCATION:Salisbury North Football Club\, 39 - 41 Bagster Road\, Salisbury North\, SA\, 5108\, Australia
CATEGORIES:Family Friendly New Years Eve in Adelaide
ATTACH;FMTTYPE=image/webp:https://kidsinadelaide.com.au/wp-content/uploads/2025/12/salisbury-football-club-fireworks.webp
END:VEVENT
END:VCALENDAR