BEGIN:VCALENDAR
VERSION:2.0
PRODID:-//Adelaide for Kids – The Ultimate Family Guide | Kids in Adelaide - ECPv6.15.20//NONSGML v1.0//EN
CALSCALE:GREGORIAN
METHOD:PUBLISH
X-ORIGINAL-URL:https://kidsinadelaide.com.au
X-WR-CALDESC:Events for Adelaide for Kids – The Ultimate Family Guide | Kids in Adelaide
REFRESH-INTERVAL;VALUE=DURATION:PT1H
X-Robots-Tag:noindex
X-PUBLISHED-TTL:PT1H
BEGIN:VTIMEZONE
TZID:Australia/Adelaide
BEGIN:STANDARD
TZOFFSETFROM:+1030
TZOFFSETTO:+0930
TZNAME:ACST
DTSTART:20240406T163000
END:STANDARD
BEGIN:DAYLIGHT
TZOFFSETFROM:+0930
TZOFFSETTO:+1030
TZNAME:ACDT
DTSTART:20241005T163000
END:DAYLIGHT
BEGIN:STANDARD
TZOFFSETFROM:+1030
TZOFFSETTO:+0930
TZNAME:ACST
DTSTART:20250405T163000
END:STANDARD
BEGIN:DAYLIGHT
TZOFFSETFROM:+0930
TZOFFSETTO:+1030
TZNAME:ACDT
DTSTART:20251004T163000
END:DAYLIGHT
BEGIN:STANDARD
TZOFFSETFROM:+1030
TZOFFSETTO:+0930
TZNAME:ACST
DTSTART:20260404T163000
END:STANDARD
BEGIN:DAYLIGHT
TZOFFSETFROM:+0930
TZOFFSETTO:+1030
TZNAME:ACDT
DTSTART:20261003T163000
END:DAYLIGHT
END:VTIMEZONE
BEGIN:VEVENT
DTSTART;TZID=Australia/Adelaide:20251207T110000
DTEND;TZID=Australia/Adelaide:20251207T150000
DTSTAMP:20260422T160813
CREATED:20251019T101649Z
LAST-MODIFIED:20251201T113830Z
UID:10006307-1765105200-1765119600@kidsinadelaide.com.au
SUMMARY:2025 Christmas Tree Festival
DESCRIPTION:The Anglican Parish of Glenelg invites the Adelaide community to celebrate the festive season at their annual Christmas Festival. This year’s event will showcase a vibrant mix of Christmas displays\, live music\, and the unique charm of their historic church building. \nFamilies can enjoy a visit from Father Christmas on Thursday\, December 4\, and Friday\, December 5\, from 11:00 am to 1:00 pm.\nLittle ones will love the children’s reading corner from 10:30 to 11:00 am\, followed by Kids Crafts from 11:00 am to 1:00 pm on Thursday\, Friday\, and Saturday. \nVisitors can browse the Christmas\, cake\, and gift stalls\, take part in the raffle or children’s lucky dip\, and relax with a Devonshire tea. The much-loved “Giving Tree” will also return—unwrapped gifts placed beneath the tree will go to families in need this Christmas. \nAll proceeds from the festival support community outreach programs run by the Anglican Parish of Glenelg. \nWhere: St Peter’s Anglican Church\, 1 Torrens Square\, Glenelg\nOpening Night: Wednesday\, December 3 at 7:30 pm\nFestival Dates: Thursday\, December 4 – Saturday\, December 6\, 10:00 am – 4:00 pm\nFinal Day: Sunday\, December 7\, 11:30 am – 3:00 pm
URL:https://kidsinadelaide.com.au/event/2025-christmas-tree-festival/2025-12-07/
LOCATION:St Peter’s Anglican Church\, 1 Torrens Square\, Glenelg\, SA\, 5045\, Australia
CATEGORIES:Christmas,Community
ATTACH;FMTTYPE=image/jpeg:https://kidsinadelaide.com.au/wp-content/uploads/2025/10/DSC_0305.jpg
ORGANIZER;CN="Anglican Parish of Glenelg":MAILTO:stpetersctfestival@gmail.com
GEO:-34.9784703;138.5146742
X-APPLE-STRUCTURED-LOCATION;VALUE=URI;X-ADDRESS=St Peter’s Anglican Church 1 Torrens Square Glenelg SA 5045 Australia;X-APPLE-RADIUS=500;X-TITLE=1 Torrens Square:geo:138.5146742,-34.9784703
END:VEVENT
END:VCALENDAR