BEGIN:VCALENDAR
VERSION:2.0
PRODID:-//Adelaide for Kids – The Ultimate Family Guide | Kids in Adelaide - ECPv6.15.20//NONSGML v1.0//EN
CALSCALE:GREGORIAN
METHOD:PUBLISH
X-WR-CALNAME:Adelaide for Kids – The Ultimate Family Guide | Kids in Adelaide
X-ORIGINAL-URL:https://kidsinadelaide.com.au
X-WR-CALDESC:Events for Adelaide for Kids – The Ultimate Family Guide | Kids in Adelaide
REFRESH-INTERVAL;VALUE=DURATION:PT1H
X-Robots-Tag:noindex
X-PUBLISHED-TTL:PT1H
BEGIN:VTIMEZONE
TZID:Australia/Adelaide
BEGIN:STANDARD
TZOFFSETFROM:+1030
TZOFFSETTO:+0930
TZNAME:ACST
DTSTART:20240406T163000
END:STANDARD
BEGIN:DAYLIGHT
TZOFFSETFROM:+0930
TZOFFSETTO:+1030
TZNAME:ACDT
DTSTART:20241005T163000
END:DAYLIGHT
BEGIN:STANDARD
TZOFFSETFROM:+1030
TZOFFSETTO:+0930
TZNAME:ACST
DTSTART:20250405T163000
END:STANDARD
BEGIN:DAYLIGHT
TZOFFSETFROM:+0930
TZOFFSETTO:+1030
TZNAME:ACDT
DTSTART:20251004T163000
END:DAYLIGHT
BEGIN:STANDARD
TZOFFSETFROM:+1030
TZOFFSETTO:+0930
TZNAME:ACST
DTSTART:20260404T163000
END:STANDARD
BEGIN:DAYLIGHT
TZOFFSETFROM:+0930
TZOFFSETTO:+1030
TZNAME:ACDT
DTSTART:20261003T163000
END:DAYLIGHT
END:VTIMEZONE
BEGIN:VEVENT
DTSTART;TZID=Australia/Adelaide:20251231T213000
DTEND;TZID=Australia/Adelaide:20251231T220000
DTSTAMP:20260421T222217
CREATED:20231214T035033Z
LAST-MODIFIED:20250812T032829Z
UID:10004247-1767216600-1767218400@kidsinadelaide.com.au
SUMMARY:Stansbury New Year's Eve Fireworks
DESCRIPTION:Join the Stansbury Progress Association for their annual New Year’s Eve fireworks tradition at the Stansbury Boat Ramp! Celebrated by both visitors and locals alike\, these fireworks have become a cherished tradition. Find the perfect spot along the Stansbury cliffs and foreshore to witness the spectacular display. \nThis family-friendly event ensures everyone can enjoy their New Year’s Eve and welcome the new year with a bang. \nPrior the evening\, the town is filled by the popular seaside markets in the morning\, with some vendors re-opening again for evening food from 5pm \nWHERE: Stansbury\, Yorke Peninsula \nWHEN: Tuesday 31 December \nTIME: 9:30 – 10:00 pm
URL:https://kidsinadelaide.com.au/event/stansbury-new-years-eve-fireworks/
LOCATION:Stansbury Foreshore\, Anzac Parade\, Stansbury\, SA\, 5582\, Australia
CATEGORIES:Family Friendly New Years Eve in Adelaide,Fireworks,Free
ATTACH;FMTTYPE=image/jpeg:https://kidsinadelaide.com.au/wp-content/uploads/2023/12/Stansbury-New-Years-Eve-Fireworks.jpeg
END:VEVENT
END:VCALENDAR