BEGIN:VCALENDAR
VERSION:2.0
PRODID:-//Adelaide for Kids – The Ultimate Family Guide | Kids in Adelaide - ECPv6.15.20//NONSGML v1.0//EN
CALSCALE:GREGORIAN
METHOD:PUBLISH
X-ORIGINAL-URL:https://kidsinadelaide.com.au
X-WR-CALDESC:Events for Adelaide for Kids – The Ultimate Family Guide | Kids in Adelaide
REFRESH-INTERVAL;VALUE=DURATION:PT1H
X-Robots-Tag:noindex
X-PUBLISHED-TTL:PT1H
BEGIN:VTIMEZONE
TZID:Australia/Adelaide
BEGIN:STANDARD
TZOFFSETFROM:+1030
TZOFFSETTO:+0930
TZNAME:ACST
DTSTART:20250405T163000
END:STANDARD
BEGIN:DAYLIGHT
TZOFFSETFROM:+0930
TZOFFSETTO:+1030
TZNAME:ACDT
DTSTART:20251004T163000
END:DAYLIGHT
BEGIN:STANDARD
TZOFFSETFROM:+1030
TZOFFSETTO:+0930
TZNAME:ACST
DTSTART:20260404T163000
END:STANDARD
BEGIN:DAYLIGHT
TZOFFSETFROM:+0930
TZOFFSETTO:+1030
TZNAME:ACDT
DTSTART:20261003T163000
END:DAYLIGHT
BEGIN:STANDARD
TZOFFSETFROM:+1030
TZOFFSETTO:+0930
TZNAME:ACST
DTSTART:20270403T163000
END:STANDARD
BEGIN:DAYLIGHT
TZOFFSETFROM:+0930
TZOFFSETTO:+1030
TZNAME:ACDT
DTSTART:20271002T163000
END:DAYLIGHT
END:VTIMEZONE
BEGIN:VEVENT
DTSTART;TZID=Australia/Adelaide:20260322T123000
DTEND;TZID=Australia/Adelaide:20260322T133000
DTSTAMP:20260421T195046
CREATED:20251215T111629Z
LAST-MODIFIED:20260302T103416Z
UID:10010748-1774182600-1774186200@kidsinadelaide.com.au
SUMMARY:Trash Test Dummies Circus - Adelaide Fringe
DESCRIPTION:Back for ONE LAST FRINGE\, this slapstick circus comedy is “delightfully intelligent & highly entertaining” ★★★★★ Herald Sun. \nOverflowing with high-energy antics\, wild imagination and bin-based brilliance\, it’s “a circus and acrobatic show perfect for families” ★★★★★ Edinburgh Festival For Kids\, “What kids and adults so readily enjoy is the adept\, unadulterated mischief.” ★★★★★ The Times\, UK. \nExpect jaw-dropping acrobatics\, hilarious juggling and the most action-packed wheelie bins you’ve ever seen. Winners of Best Children’s Presentation at Adelaide Fringe\, 2015 and adored in 17 countries\, the Dummies return for one final Adelaide Fringe season. Don’t miss your last chance to take the bins out with a bang! \nWHERE: Umbrella Revolution at The Garden of Unearthly Delights \nWHEN: Fri\, 13 Feb – Sun\, 22 Mar \nTIME: \n\nFri 13 Feb: 5:30pm\nSat 14 Feb: 12:30pm\, 5:30pm\nSun 15 Feb: 12:30pm\nThu 19 Feb – Fri 20 Feb: 5:30pm\nSat 21 Feb: 12:30pm\, 5:30pm\nSun 22 Feb: 12:30pm\nThu 26 Feb – Fri 27 Feb: 5:30pm\nSat 28 Feb: 12:30pm\, 5:30pm\nSun 01 Mar: 12:30pm\nThu 05 Mar – Fri 06 Mar: 5:30pm\nSat 07 Mar: 12:30pm\, 5:30pm\nSun 08 Mar – Mon 09 Mar: 12:30pm\nThu 12 Mar – Fri 13 Mar: 5:30pm\nSat 14 Mar: 12:30pm\, 5:30pm\nSun 15 Mar: 12:30pm\nThu 19 Mar – Fri 20 Mar: 5:30pm\nSat 21 Mar: 12:30pm\, 5:30pm\nSun 22 Mar: 12:30pm\n\nDURATION: 60 mins \nCONTENT RATING: G \nBook tickets here \n  \nKids in Adelaide Review: ★★★★★ \nA long standing Fringe favourite with the kids\, the Dummies are back and we must say\, having seen them a number of times now\, they are in career best form. The packed house (and it was PACKED!) could not get enough of the 60 minutes of comedy gold from this trio. A mix of minion-style clown humour\, sprinkled in with acrobatics and some music make this the perfect show for the under 12s. \nFabulously engaging and with loads of crowd interaction\, the Melbourne based troupe are absolute pros at this game and this if you are worried about your little one sitting still or getting bored at a show\, there is no issue with that here. No scary bits and full of fun\, brightness and great vibes and in a large comfortable venue (we saw it on a hot day and it will still ideal). Must see this one.
URL:https://kidsinadelaide.com.au/event/trash-test-dummies-circus-adelaide-fringe/2026-03-22/
LOCATION:Umbrella Revolution at The Garden of Unearthly Delights\, Kadlitpina / Rundle Park\, Cnr East Tce & Rundle Rd\, Adelaide\, SA\, 5000\, Australia
CATEGORIES:Adelaide Fringe,Family
ATTACH;FMTTYPE=image/jpeg:https://kidsinadelaide.com.au/wp-content/uploads/2025/02/Trash-Test-Dummies-Circus.jpg
GEO:-34.9213754;138.6129746
X-APPLE-STRUCTURED-LOCATION;VALUE=URI;X-ADDRESS=Umbrella Revolution at The Garden of Unearthly Delights Kadlitpina / Rundle Park Cnr East Tce & Rundle Rd Adelaide SA 5000 Australia;X-APPLE-RADIUS=500;X-TITLE=Kadlitpina / Rundle Park\, Cnr East Tce & Rundle Rd:geo:138.6129746,-34.9213754
END:VEVENT
END:VCALENDAR