BEGIN:VCALENDAR
VERSION:2.0
PRODID:-//Adelaide for Kids – The Ultimate Family Guide | Kids in Adelaide - ECPv6.15.20//NONSGML v1.0//EN
CALSCALE:GREGORIAN
METHOD:PUBLISH
X-ORIGINAL-URL:https://kidsinadelaide.com.au
X-WR-CALDESC:Events for Adelaide for Kids – The Ultimate Family Guide | Kids in Adelaide
REFRESH-INTERVAL;VALUE=DURATION:PT1H
X-Robots-Tag:noindex
X-PUBLISHED-TTL:PT1H
BEGIN:VTIMEZONE
TZID:UTC
BEGIN:STANDARD
TZOFFSETFROM:+0000
TZOFFSETTO:+0000
TZNAME:UTC
DTSTART:20250101T000000
END:STANDARD
END:VTIMEZONE
BEGIN:VTIMEZONE
TZID:Australia/Adelaide
BEGIN:STANDARD
TZOFFSETFROM:+1030
TZOFFSETTO:+0930
TZNAME:ACST
DTSTART:20250405T163000
END:STANDARD
BEGIN:DAYLIGHT
TZOFFSETFROM:+0930
TZOFFSETTO:+1030
TZNAME:ACDT
DTSTART:20251004T163000
END:DAYLIGHT
BEGIN:STANDARD
TZOFFSETFROM:+1030
TZOFFSETTO:+0930
TZNAME:ACST
DTSTART:20260404T163000
END:STANDARD
BEGIN:DAYLIGHT
TZOFFSETFROM:+0930
TZOFFSETTO:+1030
TZNAME:ACDT
DTSTART:20261003T163000
END:DAYLIGHT
BEGIN:STANDARD
TZOFFSETFROM:+1030
TZOFFSETTO:+0930
TZNAME:ACST
DTSTART:20270403T163000
END:STANDARD
BEGIN:DAYLIGHT
TZOFFSETFROM:+0930
TZOFFSETTO:+1030
TZNAME:ACDT
DTSTART:20271002T163000
END:DAYLIGHT
END:VTIMEZONE
BEGIN:VEVENT
DTSTART;TZID=UTC:20260424T180000
DTEND;TZID=UTC:20260425T053000
DTSTAMP:20260420T033159
CREATED:20220412T020605Z
LAST-MODIFIED:20260415T063255Z
UID:10003491-1777053600-1777095000@kidsinadelaide.com.au
SUMMARY:Anzac Eve Youth Vigil
DESCRIPTION:The RSL SA Anzac Eve Youth Vigil (Adelaide) is a youth inspired activity\, since 1999\, that has become the first ceremony of remembrance for Anzac Day in South Australia. \nWith differing backgrounds and interests\, young Australians representing a variety of service and community groups\, conduct a formal ‘Holding Ground’ Ceremony\, a night-long\, guard of honour around the historic South Australian National War Memorial\, corner of North Terrace and Kintore Avenue\, Adelaide\, from 6.00pm Anzac Eve to approximately 6.00am Anzac morning. \nIn doing so\, the youth have created their own Anzac Day tradition. The evening Dedication Ceremony on 24th April is attended by invited guests\, youth group organisers and families. Just prior to dawn the youth guards stepped down and the Dawn Service followed \nMore information: https://www.rslsa.org.au/anzac-youth-vigil-adelaide \nThere are other Anzac Eve vigils every year across South Australia\, and our youth have now created their own Anzac Day tradition. \nAdelaide South Australian National War Memorial\, North Terrace 6:00pm 24/4 – 5:30am 25/4; Youth.Vigil@rslsa.org.au \nGawler Pioneer Park\, 6:30pm – 10:30pm 24/4. 0409 505 649; president@rslgawler.org.au \nMarion RSL\, Norfolk Rd 7:00pm 24/4 – 6:00am 25/4. 0406 380 819; secretary@marionrsl.com.au‍ ‍ \nMorphett Vale Memorial Gardens\, Cnr Main South & Flaxmill Roads. 8:15pm 24/4 – . 0419857905; MorphettVale@rslsa.org.au \nMount Compass Memorial\, Peters Terrace. Evening 24/4 – Morning 25/4. 0417326665; coomans5@bigpond.com \nSalisbury War Memorial\, Orange Avenue. 6:00pm 24/4 – 5:00am 25/4. 8258 6016\, salisbury@rslsa.org.au \nSemaphore Angel of Peace Memorial\, Foreshore. 6:00pm – 9:00pm 24/4. semaphoreportadelaide@rslsa.org.au
URL:https://kidsinadelaide.com.au/event/anzac-eve-youth-vigil/
LOCATION:various locations around Adelaide
CATEGORIES:ANZAC,Community,Youth
ATTACH;FMTTYPE=image/jpeg:https://kidsinadelaide.com.au/wp-content/uploads/2022/04/Anzac-Day_Youth-Vigil.jpg
END:VEVENT
BEGIN:VEVENT
DTSTART;TZID=Australia/Adelaide:20260426T063000
DTEND;TZID=Australia/Adelaide:20260426T180000
DTSTAMP:20260420T033159
CREATED:20250421T073057Z
LAST-MODIFIED:20260415T042750Z
UID:10005426-1777185000-1777226400@kidsinadelaide.com.au
SUMMARY:Anzac Day Dawn Service - Henley Soldiers Memorial
DESCRIPTION:Henley and Grange RSL ANZAC Day Dawn Service | Saturday 25th April 6:30 am \nSoldiers Memorial\, Seaview Road\, Henley Beach. \nHenley SLSC & Grange SLSC junior rowers will imitate a beach \nlanding before joining Veterans marching to Soldiers Memorial. \nTraditional “Gunfire Breakfast” at the RSL after the service on North Street. \nRum & Coffee stations. Two-Up game from 9am. \nLocal children art on display in the community centre. \nLive music P A Woods from 12pm
URL:https://kidsinadelaide.com.au/event/anzac-day-dawn-service-henley-soldiers-memorial/
LOCATION:various locations around Adelaide
CATEGORIES:ANZAC
ATTACH;FMTTYPE=image/jpeg:https://kidsinadelaide.com.au/wp-content/uploads/2025/04/Anzac-Day-Henley.jpg
END:VEVENT
BEGIN:VEVENT
DTSTART;TZID=Australia/Adelaide:20260501T080000
DTEND;TZID=Australia/Adelaide:20260531T170000
DTSTAMP:20260420T033159
CREATED:20260414T033333Z
LAST-MODIFIED:20260414T033333Z
UID:10012952-1777622400-1780246800@kidsinadelaide.com.au
SUMMARY:South Australia's History Festival
DESCRIPTION:South Australia’s History Festival is an annual state-wide event exploring South Australia’s history. \nHeld throughout May each year\, the History Festival explores the state’s places and spaces\, stories\, collections and ideas that make us who we are. \nOne of South Australia’s largest open-access community events\, the History Festival program features hundreds of events ranging from talks to tours\, walks to workshops and exhibitions to special events. \nEvents happen anywhere: urban and rural\, towns\, cities and suburbs; in museums and libraries; in boats\, trains and buses and mysterious buildings; on the street\, by the beach and in nature. \nHear the latest research and tales of the unusual and unknown; from amazing experts to local guides. With hundreds of events to choose from\, there’s something for curious minds of all ages. \nThe theme in 2026 is: Connections \nWHERE: Various locations around SA \nWHEN: 1 – 31 May \nExplore the program here
URL:https://kidsinadelaide.com.au/event/south-australias-history-festival/
LOCATION:various locations around Adelaide
CATEGORIES:Festival
ATTACH;FMTTYPE=image/jpeg:https://kidsinadelaide.com.au/wp-content/uploads/2026/04/history-festival-sa.jpg
END:VEVENT
BEGIN:VEVENT
DTSTART;VALUE=DATE:20260508
DTEND;VALUE=DATE:20260518
DTSTAMP:20260420T033159
CREATED:20201208T100917Z
LAST-MODIFIED:20260303T063649Z
UID:10003873-1778198400-1779062399@kidsinadelaide.com.au
SUMMARY:Tasting Australia
DESCRIPTION:Tasting Australia is a celebration of eating and drinking! \nPresented by RAA Travel\, it is a showcase of all things South Australian: our people\, our produce and our place. Each autumn we invite audiences to step beyond a standard food festival and discover deliciously different experiences that feed their curiosity. \nBoard a Tasting Australia Airlines flight to destinations you’ve always wanted to explore. Savour the magic that happens when local legends are joined by top chefs from around the world – moments impossible to recreate. Sip your way through a wine\, beer or spirit masterclass\, sampling South Australian gems alongside those from further afield. Head to the heart of Adelaide or enjoy a regional getaway. \nWith over 150 events\, Tasting Australia creates lasting memories through unique eating and drinking experiences that only South Australia can offer. \nTasting Australia presented by RAA Travel inspires visitors\, chefs\, producers\, media and buyers to experience the best of our state – and ensures local audiences are always at the party too. \nWhen: 8 – 17 May \nCheck our the Tasting Australia full program HERE
URL:https://kidsinadelaide.com.au/event/tasting-australia/
LOCATION:various locations around Adelaide
CATEGORIES:Dining,Family
ATTACH;FMTTYPE=image/jpeg:https://kidsinadelaide.com.au/wp-content/uploads/2020/12/242674013_4337504603010900_6711644305132301986_n.jpeg
END:VEVENT
BEGIN:VEVENT
DTSTART;VALUE=DATE:20260510
DTEND;VALUE=DATE:20260511
DTSTAMP:20260420T033159
CREATED:20220426T031425Z
LAST-MODIFIED:20260413T062203Z
UID:10004172-1778371200-1778457599@kidsinadelaide.com.au
SUMMARY:Mother's Day Classic
DESCRIPTION:Australia’s largest fun run and walk to raise money for breast & ovarian cancer research. \nMajor event – Adelaide \nLocal event – Gawler and Mount Gambier \nStay tuned for more details \nWhen: Sunday 10th May \nWhere: Pinky Flat\, War Memorial Dr\, North Adelaide \nRegister now
URL:https://kidsinadelaide.com.au/event/mothers-day-classic-2/
LOCATION:various locations around Adelaide
CATEGORIES:Charity,Community,Fundraiser,Mother's Day,Mum
ATTACH;FMTTYPE=image/jpeg:https://kidsinadelaide.com.au/wp-content/uploads/2022/04/Mothers-Day-Classic.jpg
END:VEVENT
BEGIN:VEVENT
DTSTART;VALUE=DATE:20260522
DTEND;VALUE=DATE:20260523
DTSTAMP:20260420T033159
CREATED:20220419T112338Z
LAST-MODIFIED:20260331T012843Z
UID:10004242-1779408000-1779494399@kidsinadelaide.com.au
SUMMARY:Walk Safely to School Day
DESCRIPTION:Primary school aged children across Australia will make those important steps towards a healthier future by participating in National Walk Safely to School Day on Friday 22 May\, 2026! \nNow in its 27th year\, the national initiative\, championed by the Pedestrian Council of Australia\, encourages children and families to build regular walking into their daily routine — not just on one day\, but every day. The campaign highlights the health\, road safety\, transport and environmental benefits of active travel to and from school. \nChildren need at least 60 minutes of physical activity every day\, and walking before and after school is one of the simplest ways to help meet that target. Regular movement supports healthy growth\, strong bones and muscles\, improved cardiovascular fitness and overall wellbeing. Research also shows that active children demonstrate stronger concentration and cognitive performance\, helping them arrive at school focused and ready to learn. \nWalk Safely to School Day also responds to a significant national health challenge\, with around one in four Australian children affected by overweight or obesity. Encouraging simple daily habits like walking to school can help build lifelong healthy behaviours while reducing traffic congestion and improving safety around school gates. \nSafety remains central to the campaign\, with parents and carers reminded that children under 10 must always hold the hand of an adult when crossing the road. \nParents and carers are encouraged to speak with their school principal\, teachers or P&C about participating in Walk Safely to School Day and incorporating walking activities on Friday 22 May. \nSchools are also encouraged to Host a Healthy Breakfast to reinforce the link between good nutrition and physical activity and to register for publicity to share their positive stories. \nWhen: Friday 22 May\, 2026 \nWhere: All primary schools across SA \nCost: Free \nFor more information and to register your school\, visit https://www.walk.com.au/WSTSD/ \n 
URL:https://kidsinadelaide.com.au/event/walk-safely-to-school-day/
LOCATION:various locations around Adelaide
CATEGORIES:Children,Community,Family,Free,School
ATTACH;FMTTYPE=image/jpeg:https://kidsinadelaide.com.au/wp-content/uploads/2026/02/WSTSD-2026-image.jpg
END:VEVENT
BEGIN:VEVENT
DTSTART;TZID=Australia/Adelaide:20260607T110000
DTEND;TZID=Australia/Adelaide:20260607T180000
DTSTAMP:20260420T033159
CREATED:20230525T000639Z
LAST-MODIFIED:20260410T074918Z
UID:10004894-1780830000-1780855200@kidsinadelaide.com.au
SUMMARY:Coastal Sounds 2026
DESCRIPTION:Coastal Sounds is back in 2026\, bringing a full day of free\, family-friendly fun along Adelaide’s coastline. \nStretching across 11 beachfront locations from West Beach to Semaphore\, this vibrant coastal trail features live music\, dance workshops and interactive art experiences. \nPack a picnic\, bring the kids (and the dog)\, and spend the day exploring everything from Henley Beach to Grange and beyond. \nWHEN: Sunday 7 June\, 2026 (June Long Weekend) \nTIME: 11am – 6pm \nWHERE: From West Beach – Semaphore \nCOST: Free \n 
URL:https://kidsinadelaide.com.au/event/coastal-sounds/
LOCATION:various locations around Adelaide
CATEGORIES:Concert,Family,Featured,Free,June Long Weekend in Adelaide
ATTACH;FMTTYPE=image/jpeg:https://kidsinadelaide.com.au/wp-content/uploads/2023/05/Coastal-Sounds-1.jpg
ORGANIZER;CN="City of Charles Sturt":MAILTO:vteerbro@charlessturt.sa.gov.au
END:VEVENT
BEGIN:VEVENT
DTSTART;VALUE=DATE:20260701
DTEND;VALUE=DATE:20260720
DTSTAMP:20260420T033159
CREATED:20210408T005044Z
LAST-MODIFIED:20251228T010650Z
UID:10003881-1782864000-1784505599@kidsinadelaide.com.au
SUMMARY:Illuminate Adelaide 2026
DESCRIPTION:A celebration of innovation\, art\, light\, music and technology  1 – 19 July 2026 \nEach year throughout July\, Illuminate Adelaide celebrates that idea by bringing together the best and boldest in art\, music\, technology and invention from around Australia and the world\, and sets them loose across the city and the state. \nFrom 1 – 19 July\, South Australia’s premier winter event turns Adelaide’s streetscapes and iconic locations into a beacon. An invitation. A city-wide spectacle daring you to shake off the winter blues and rekindle a sense of wonder. Welcoming people from all walks of life to experience a program of free and ticketed events by local\, national and international artists\, Illuminate Adelaide is about staying up\, heading out\, and coming together. It’s about looking forward\, breaking ground\, and making memories. It’s about turning those long winter nights into an opportunity: to wake imaginations and let curiosity run wild. \nThere are a number of ways you can explore Illuminate Adelaide and all the different venues\, buildings and precincts that plan to light up this winter. \nStay tuned for the 2026 program! \n \n \n \nWhere to park – Illuminate Adelaide events are scattered throughout the city. It is advisable to plan your itinerary thoughtfully and select the most suitable Wilson Parking site based on proximity and accessibility for your event. \nPublic Transport – To navigate your movement across Illuminate Adelaide events scattered throughout the city\, Adelaide Metro provides a specialised network of buses\, trains\, and trams. You can access the Adelaide Metro planner to obtain timetables and tickets and select the option that best suits your requirements. Or you can utilise the Free City Connector bus and tram services\, which operate on a continuous loop throughout the city and North Adelaide. These services run every 15 minutes on weekdays and every 30 minutes on weekends.
URL:https://kidsinadelaide.com.au/event/illuminate-adelaide/
LOCATION:various locations around Adelaide
CATEGORIES:Family,Featured,July School Holidays,Outdoor,School Holidays
ATTACH;FMTTYPE=image/jpeg:https://kidsinadelaide.com.au/wp-content/uploads/2021/04/Night-Visions_Tyr-Liang-@-Xplorer-Media_OPTION-1.jpg
END:VEVENT
BEGIN:VEVENT
DTSTART;VALUE=DATE:20260925
DTEND;VALUE=DATE:20261012
DTSTAMP:20260420T033159
CREATED:20200909T105729Z
LAST-MODIFIED:20260416T012508Z
UID:10002899-1790294400-1791763199@kidsinadelaide.com.au
SUMMARY:Nature Festival SA
DESCRIPTION:The Nature Festival is a collaborative movement of more than 200 community groups and organisations. We exist to celebrate our unique love for nature in South Australia. \nSitting at the intersection of nature + culture\, we feature more than 350 experiences of art\, adventure\, music\, food\, wine\, wellbeing\, gardens\, and Aboriginal culture\, with plenty of free and family-friendly events. \nStay tuned for the 2026 program \nWHEN: Saturday 25 September – 11 October
URL:https://kidsinadelaide.com.au/event/nature-festival-sa/
LOCATION:various locations around Adelaide
CATEGORIES:Family,Featured,Free,October Long Weekend in Adelaide,October School Holiday Feature Events,October School Holidays,Outdoor
ATTACH;FMTTYPE=image/jpeg:https://kidsinadelaide.com.au/wp-content/uploads/2020/09/Nature-Festival-1.jpg
END:VEVENT
END:VCALENDAR