BEGIN:VCALENDAR
VERSION:2.0
PRODID:-//Adelaide for Kids – The Ultimate Family Guide | Kids in Adelaide - ECPv6.15.20//NONSGML v1.0//EN
CALSCALE:GREGORIAN
METHOD:PUBLISH
X-WR-CALNAME:Adelaide for Kids – The Ultimate Family Guide | Kids in Adelaide
X-ORIGINAL-URL:https://kidsinadelaide.com.au
X-WR-CALDESC:Events for Adelaide for Kids – The Ultimate Family Guide | Kids in Adelaide
REFRESH-INTERVAL;VALUE=DURATION:PT1H
X-Robots-Tag:noindex
X-PUBLISHED-TTL:PT1H
BEGIN:VTIMEZONE
TZID:Australia/Adelaide
BEGIN:STANDARD
TZOFFSETFROM:+1030
TZOFFSETTO:+0930
TZNAME:ACST
DTSTART:20240406T163000
END:STANDARD
BEGIN:DAYLIGHT
TZOFFSETFROM:+0930
TZOFFSETTO:+1030
TZNAME:ACDT
DTSTART:20241005T163000
END:DAYLIGHT
BEGIN:STANDARD
TZOFFSETFROM:+1030
TZOFFSETTO:+0930
TZNAME:ACST
DTSTART:20250405T163000
END:STANDARD
BEGIN:DAYLIGHT
TZOFFSETFROM:+0930
TZOFFSETTO:+1030
TZNAME:ACDT
DTSTART:20251004T163000
END:DAYLIGHT
BEGIN:STANDARD
TZOFFSETFROM:+1030
TZOFFSETTO:+0930
TZNAME:ACST
DTSTART:20260404T163000
END:STANDARD
BEGIN:DAYLIGHT
TZOFFSETFROM:+0930
TZOFFSETTO:+1030
TZNAME:ACDT
DTSTART:20261003T163000
END:DAYLIGHT
END:VTIMEZONE
BEGIN:VEVENT
DTSTART;TZID=Australia/Adelaide:20250601T140000
DTEND;TZID=Australia/Adelaide:20250601T170000
DTSTAMP:20260424T221110
CREATED:20250522T081106Z
LAST-MODIFIED:20250522T081106Z
UID:10005448-1748786400-1748797200@kidsinadelaide.com.au
SUMMARY:Yitpi Yartapuultiku Official Opening
DESCRIPTION:Yitpi Yartapuultiku Opening Day – Soul of Port Adelaide Aboriginal Cultural Centre \nYou’re invited to a free community celebration marking the official opening of Yitpi Yartapuultiku – Soul of Port Adelaide\, a new Aboriginal Cultural Centre grounded in Kaurna Country. Held during Parnatti (autumn to winter) and Waitpi (windy season)\, the event will feature a cultural ceremony and performance\, exhibitions\, a self-guided trail\, Aboriginal maker stalls\, and family-friendly activities. \nExplore the riverside grounds\, nature play spaces\, and discover ancient stories through sculpture and curated art by Aboriginal custodians. Yitpi Yartapuultiku is a space for truth-telling\, connection\, creativity and community – a welcoming place for all to learn\, reflect and grow. \nPlease note: There is no parking on site. Visitors are encouraged to park in surrounding streets (check signage)\, use Port Plaza’s designated car parks (Old Port Road and Hack Street)\, or consider public transport. \nWHERE: Yitpi Yartapuultiku – Port Adelaide \nWHEN: Sunday 1 June \nTIME: 2 pm – 5pm \nCOST:  Free. Registration encouraged: https://events.humanitix.com/opening-day-yitpi-yartapuultiku
URL:https://kidsinadelaide.com.au/event/yitpi-yartapuultiku-official-opening/
LOCATION:Yitpi Yartapuultiku\, Port Adelaide\, SA\, 5015\, Australia
CATEGORIES:Community,Family,Free
ATTACH;FMTTYPE=image/jpeg:https://kidsinadelaide.com.au/wp-content/uploads/2025/05/Yitpi-Yartapuultiku-official-opening.jpg
ORGANIZER;CN="City of Port Adelaide Enfield":MAILTO:library@cityofpae.sa.gov.au
GEO:-34.8455742;138.5037206
END:VEVENT
END:VCALENDAR